BEGIN:VCALENDAR
VERSION:2.0
PRODID:-//Kidsburgh - ECPv6.0.1.1//NONSGML v1.0//EN
CALSCALE:GREGORIAN
METHOD:PUBLISH
X-WR-CALNAME:Kidsburgh
X-ORIGINAL-URL:https://www.kidsburgh.org
X-WR-CALDESC:Events for Kidsburgh
REFRESH-INTERVAL;VALUE=DURATION:PT1H
X-Robots-Tag:noindex
X-PUBLISHED-TTL:PT1H
BEGIN:VTIMEZONE
TZID:America/New_York
BEGIN:DAYLIGHT
TZOFFSETFROM:-0500
TZOFFSETTO:-0400
TZNAME:EDT
DTSTART:20220313T070000
END:DAYLIGHT
BEGIN:STANDARD
TZOFFSETFROM:-0400
TZOFFSETTO:-0500
TZNAME:EST
DTSTART:20221106T060000
END:STANDARD
END:VTIMEZONE
BEGIN:VEVENT
DTSTART;TZID=America/New_York:20220927T170000
DTEND;TZID=America/New_York:20220927T190000
DTSTAMP:20221005T195057
CREATED:20220921T032340Z
LAST-MODIFIED:20220921T032340Z
UID:96155-1664298000-1664305200@www.kidsburgh.org
SUMMARY:Backyard Performances
DESCRIPTION:The Backyard on 8th is the Cultural District’s new summer arts park. A destination that embraces artistic exploration\, collaboration and creation. Featuring regional and international artists\, the Backyard is a casual meeting place to gather with friends and family to enjoy the culinary\, visual and performing arts in a comfortable and inviting environment for the Pittsburgh community. Learn more at TrustArts.org/BACKYARD
URL:https://www.kidsburgh.org/ec/backyard-performances/2022-09-27/
LOCATION:Pittsburgh Cultural District\, Pittsburgh\, PA\, 15222\, United States
CATEGORIES:Arts and Culture
ATTACH;FMTTYPE=image/jpeg:https://www.kidsburgh.org/wp-content/uploads/2022/09/kb3kan3t8q50m3ab9aaa3knkghkc.jpg
END:VEVENT
BEGIN:VEVENT
DTSTART;TZID=America/New_York:20220604T080000
DTEND;TZID=America/New_York:20220604T170000
DTSTAMP:20221005T195057
CREATED:20220520T212934Z
LAST-MODIFIED:20220520T212934Z
UID:92015-1654329600-1654362000@www.kidsburgh.org
SUMMARY:Step Up Your Moves\, Find Your Groove
DESCRIPTION:This workshop will explore the art form of dance. Participants will be taken through activities that will loosen up their bodies\, introduce them to some of the foundational elements of dance\, and put it all together into their own personal dance style. The workshop will culminate in participants working together to create a piece of choreography that everyone can rock in their own style\, and will finish off with a full body cooldown that will send everyone off feeling both funky and peaceful. Whether you want to upgrade your Zoom dance party grooves or just get your body moving \, this class will be great for the whole family!
URL:https://www.kidsburgh.org/ec/step-up-your-moves-find-your-groove/
LOCATION:Pittsburgh Cultural District\, Pittsburgh\, PA\, 15222\, United States
CATEGORIES:Arts and Culture
ATTACH;FMTTYPE=image/jpeg:https://www.kidsburgh.org/wp-content/uploads/2022/05/move-and-groove.jpg
ORGANIZER;CN="Pittsburgh%20Cultural%20Trust":MAILTO:education@trustarts.org
END:VEVENT
BEGIN:VEVENT
DTSTART;TZID=America/New_York:20220520T080000
DTEND;TZID=America/New_York:20220520T170000
DTSTAMP:20221005T195057
CREATED:20220520T213240Z
LAST-MODIFIED:20220520T213240Z
UID:92018-1653033600-1653066000@www.kidsburgh.org
SUMMARY:Magic Dot Painting with Emily McMahon
DESCRIPTION:Be part of the Dollar Bank Three Rivers Arts Festival magic by trying your hand at some Magic Dot painting! This low-stress painting style in perfect for all ages and skill levels. Painters will try this unique painting style while enjoying sights and sounds of the Trust Oasis. Please pre-register and feel free to bring any bonus painting supplies you might like to use! Basic materials will be provided.
URL:https://www.kidsburgh.org/ec/magic-dot-painting-with-emily-mcmahon/
LOCATION:Pittsburgh Cultural District\, Pittsburgh\, PA\, 15222\, United States
CATEGORIES:Arts and Culture
ORGANIZER;CN="Pittsburgh%20Cultural%20Trust":MAILTO:education@trustarts.org
END:VEVENT
BEGIN:VEVENT
DTSTART;TZID=America/New_York:20220514T080000
DTEND;TZID=America/New_York:20220515T170000
DTSTAMP:20221005T195057
CREATED:20220329T134247Z
LAST-MODIFIED:20220329T134247Z
UID:89881-1652515200-1652634000@www.kidsburgh.org
SUMMARY:EQT Children’s Theater Festival
DESCRIPTION:The Pittsburgh Cultural Trust is excited to announce that the EQT Children’s Theater Festival will be live and in-person again in 2022. The last in-person Festival took place in 2019\, with multiple iterations of the event taking place online to help children connect with the arts throughout the pandemic. Now in its 36th year\, this EQT Children’s Theater Festival fosters imagination through high-quality professional theater performances from around the world. This year’s featured arts groups and performers hail from France\, South Korea\, Switzerland\, and the United States. \nTwo virtual field trips will also be offered for educators and families from May 13\, 2022 – June 22\, 2022.
URL:https://www.kidsburgh.org/ec/eqt-childrens-theater-festival-2/
LOCATION:Pittsburgh Cultural District\, Pittsburgh\, PA\, 15222\, United States
ATTACH;FMTTYPE=image/jpeg:https://www.kidsburgh.org/wp-content/uploads/2022/03/EQT-Festival.jpg
ORGANIZER;CN="Pittsburgh%20Cultural%20Trust":MAILTO:education@trustarts.org
END:VEVENT
END:VCALENDAR