BEGIN:VCALENDAR
VERSION:2.0
PRODID:-//Kidsburgh - ECPv6.0.1.1//NONSGML v1.0//EN
CALSCALE:GREGORIAN
METHOD:PUBLISH
X-ORIGINAL-URL:https://www.kidsburgh.org
X-WR-CALDESC:Events for Kidsburgh
REFRESH-INTERVAL;VALUE=DURATION:PT1H
X-Robots-Tag:noindex
X-PUBLISHED-TTL:PT1H
BEGIN:VTIMEZONE
TZID:America/New_York
BEGIN:DAYLIGHT
TZOFFSETFROM:-0500
TZOFFSETTO:-0400
TZNAME:EDT
DTSTART:20220313T070000
END:DAYLIGHT
BEGIN:STANDARD
TZOFFSETFROM:-0400
TZOFFSETTO:-0500
TZNAME:EST
DTSTART:20221106T060000
END:STANDARD
END:VTIMEZONE
BEGIN:VEVENT
DTSTART;TZID=America/New_York:20220619T093000
DTEND;TZID=America/New_York:20220619T170000
DTSTAMP:20221005T201232
CREATED:20220408T234346Z
LAST-MODIFIED:20220408T234346Z
UID:90241-1655631000-1655658000@www.kidsburgh.org
SUMMARY:Father's Day Celebration
DESCRIPTION:Looking for a great way to show Dad how much you care? Bring him to the Pittsburgh Zoo & PPG Aquarium for a day filled with fun adventures. All fathers receive free admission when accompanied by their children! \nSponsored by Busy Beaver Building Centers\, Inc.
URL:https://www.kidsburgh.org/ec/fathers-day-celebration/
LOCATION:Pittsbrugh Zoo\, Pittsburgh\, PA\, 15222\, United States
CATEGORIES:Education
ATTACH;FMTTYPE=image/jpeg:https://www.kidsburgh.org/wp-content/uploads/2022/04/Fathers-Day-Celebration.jpg
ORGANIZER;CN="Pittsburgh%20Zoo":MAILTO:pr@pittsburghzoo.org
END:VEVENT
BEGIN:VEVENT
DTSTART;TZID=America/New_York:20220618T090000
DTEND;TZID=America/New_York:20220618T103000
DTSTAMP:20221005T201232
CREATED:20220523T130733Z
LAST-MODIFIED:20220523T130733Z
UID:92094-1655542800-1655548200@www.kidsburgh.org
SUMMARY:
DESCRIPTION:Treat dad to a tasty breakfast of donuts and pastries along with other fun activities before heading out to explore the Zoo for the day. General Admission to the Pittsburgh Zoo & PPG Aquarium is included.
URL:https://www.kidsburgh.org/ec/92094/
LOCATION:Pittsbrugh Zoo\, Pittsburgh\, PA\, 15222\, United States
CATEGORIES:Community
ATTACH;FMTTYPE=image/jpeg:https://www.kidsburgh.org/wp-content/uploads/2022/05/22_DonutsWithDad_EventImage.jpg
ORGANIZER;CN="Pittsburgh%20Zoo":MAILTO:pr@pittsburghzoo.org
END:VEVENT
END:VCALENDAR