BEGIN:VCALENDAR
VERSION:2.0
PRODID:-//Kidsburgh - ECPv6.0.1.1//NONSGML v1.0//EN
CALSCALE:GREGORIAN
METHOD:PUBLISH
X-WR-CALNAME:Kidsburgh
X-ORIGINAL-URL:https://www.kidsburgh.org
X-WR-CALDESC:Events for Kidsburgh
REFRESH-INTERVAL;VALUE=DURATION:PT1H
X-Robots-Tag:noindex
X-PUBLISHED-TTL:PT1H
BEGIN:VTIMEZONE
TZID:America/New_York
BEGIN:DAYLIGHT
TZOFFSETFROM:-0500
TZOFFSETTO:-0400
TZNAME:EDT
DTSTART:20210314T070000
END:DAYLIGHT
BEGIN:STANDARD
TZOFFSETFROM:-0400
TZOFFSETTO:-0500
TZNAME:EST
DTSTART:20211107T060000
END:STANDARD
BEGIN:DAYLIGHT
TZOFFSETFROM:-0500
TZOFFSETTO:-0400
TZNAME:EDT
DTSTART:20220313T070000
END:DAYLIGHT
BEGIN:STANDARD
TZOFFSETFROM:-0400
TZOFFSETTO:-0500
TZNAME:EST
DTSTART:20221106T060000
END:STANDARD
END:VTIMEZONE
BEGIN:VEVENT
DTSTART;TZID=America/New_York:20220211T190000
DTEND;TZID=America/New_York:20220211T210000
DTSTAMP:20221005T200349
CREATED:20220119T155933Z
LAST-MODIFIED:20220119T155933Z
UID:87325-1644606000-1644613200@www.kidsburgh.org
SUMMARY:My Little Sweetheart Dance
DESCRIPTION:Enjoy a sweet event for your little valentine!\nMy Little Sweetheart Dance will have a buffet\, ice cream bar\, crafts\, music & dancing\, and more! Get all dressed up and show off your little sweetheart \nDate: Friday\, February 11\nTime: 6:00 – 9:00 pm\nFee: PCC Member: $18.00/person\nNon-Member: $25/ person\nAges: 5 years & older
URL:https://www.kidsburgh.org/ec/my-little-sweetheart-dance/
LOCATION:Pine Commuiy Center\, 230 Pearce Mill Road\, Pittsburgh\, PA\, 15222\, United States
CATEGORIES:Community
ATTACH;FMTTYPE=image/png:https://www.kidsburgh.org/wp-content/uploads/2022/01/little-sweetheart.png
ORGANIZER;CN="Pine%20Community%20Center":MAILTO:pinecenter@twp.pine.pa.us
END:VEVENT
BEGIN:VEVENT
DTSTART;TZID=America/New_York:20220204T130000
DTEND;TZID=America/New_York:20220204T140000
DTSTAMP:20221005T200349
CREATED:20220119T152351Z
LAST-MODIFIED:20220119T152351Z
UID:87317-1643979600-1643983200@www.kidsburgh.org
SUMMARY:Little Doctor School
DESCRIPTION:Pre-K Little Doctor School\nPre-K kids will learn how to use doctor instruments such as a stethoscope and more! They will learn how muscles and nerves work together\, cast a broken bone and how to properly wash their hands before surgery. Register your future doctor today!
URL:https://www.kidsburgh.org/ec/little-doctor-school/2022-02-04/
LOCATION:Pine Commuiy Center\, 230 Pearce Mill Road\, Pittsburgh\, PA\, 15222\, United States
CATEGORIES:Science and Technology,Health and Wellness,Education
ATTACH;FMTTYPE=image/png:https://www.kidsburgh.org/wp-content/uploads/2022/01/little-doc.png
ORGANIZER;CN="Pine%20Community%20Center":MAILTO:pinecenter@twp.pine.pa.us
END:VEVENT
BEGIN:VEVENT
DTSTART;TZID=America/New_York:20220126T140000
DTEND;TZID=America/New_York:20220126T150000
DTSTAMP:20221005T200349
CREATED:20220119T141153Z
LAST-MODIFIED:20220119T141153Z
UID:87312-1643205600-1643209200@www.kidsburgh.org
SUMMARY:Muck N' Mess
DESCRIPTION:Muck N’ Mess is a fun chance for kids to make messy crafts and try out experiments
URL:https://www.kidsburgh.org/ec/muck-n-mess/2022-01-26/
LOCATION:Pine Commuiy Center\, 230 Pearce Mill Road\, Pittsburgh\, PA\, 15222\, United States
CATEGORIES:Arts and Culture,Education,Community
ATTACH;FMTTYPE=image/jpeg:https://www.kidsburgh.org/wp-content/uploads/2022/01/muckn-mess.jpg
ORGANIZER;CN="Pine%20Community%20Center":MAILTO:pinecenter@twp.pine.pa.us
END:VEVENT
BEGIN:VEVENT
DTSTART;TZID=America/New_York:20211023T130000
DTEND;TZID=America/New_York:20211023T143000
DTSTAMP:20221005T200349
CREATED:20211009T163618Z
LAST-MODIFIED:20211009T163618Z
UID:84070-1634994000-1634999400@www.kidsburgh.org
SUMMARY:Trunk or Treat Pine Community Center
DESCRIPTION:Calling all the little monsters  Trunk or Treat will be on Saturday\, October 23rd! There is a 1pm session or a 2:30pm session to sign up for. Kids get to trick or treat safely and then get to make Halloween crafts and play spooky games  \nAll children who wish to attend MUST be pre-registered! Sign up online\, through the phone\, or in person. Get ready for a fang-tastic time!
URL:https://www.kidsburgh.org/ec/trunk-or-treat-pine-community-center/
LOCATION:Pine Commuiy Center\, 230 Pearce Mill Road\, Pittsburgh\, PA\, 15222\, United States
CATEGORIES:Community
ATTACH;FMTTYPE=image/png:https://www.kidsburgh.org/wp-content/uploads/2021/10/Pine-Community-Trunk-or-Treat.png
ORGANIZER;CN="Pine%20Community%20Center":MAILTO:pinecenter@twp.pine.pa.us
END:VEVENT
END:VCALENDAR