BEGIN:VCALENDAR
VERSION:2.0
PRODID:-//Kidsburgh - ECPv6.0.1.1//NONSGML v1.0//EN
CALSCALE:GREGORIAN
METHOD:PUBLISH
X-WR-CALNAME:Kidsburgh
X-ORIGINAL-URL:https://www.kidsburgh.org
X-WR-CALDESC:Events for Kidsburgh
REFRESH-INTERVAL;VALUE=DURATION:PT1H
X-Robots-Tag:noindex
X-PUBLISHED-TTL:PT1H
BEGIN:VTIMEZONE
TZID:America/New_York
BEGIN:DAYLIGHT
TZOFFSETFROM:-0500
TZOFFSETTO:-0400
TZNAME:EDT
DTSTART:20210314T070000
END:DAYLIGHT
BEGIN:STANDARD
TZOFFSETFROM:-0400
TZOFFSETTO:-0500
TZNAME:EST
DTSTART:20211107T060000
END:STANDARD
END:VTIMEZONE
BEGIN:VEVENT
DTSTART;TZID=America/New_York:20211208T100000
DTEND;TZID=America/New_York:20211208T120000
DTSTAMP:20221005T200443
CREATED:20211102T230711Z
LAST-MODIFIED:20211102T230711Z
UID:85331-1638957600-1638964800@www.kidsburgh.org
SUMMARY:Carnegie STEM Girls+
DESCRIPTION:Pennsylvania American Water\n380 Becks Run Road\nPittsburgh\, PA 15210\nWednesday\, December 8\, 2021\n10 am–Noon \nCome tour Pennsylvania American Water’s Hays Mine water treatment facility where you will get an in-depth look at the water treatment process. Visit the water quality laboratory and get a hands-on lesson in how water is tested and monitored. Also\, explore the engineering challenges that come with delivering water to their customers’ homes. \nCapacity: 10 participants max\nWebsite: https://amwater.com/paaw/
URL:https://www.kidsburgh.org/ec/carnegie-stem-girls-2/
LOCATION:Pennsylvai Ameican Water\, 380 Becks Run Road\, Pittsburgh\, 15210
CATEGORIES:Science and Technology,Education
ATTACH;FMTTYPE=image/png:https://www.kidsburgh.org/wp-content/uploads/2021/11/PA-Water-logo.png
ORGANIZER;CN="Carnegie%20STEM%20Girls%20Carnegie%20Science%20Center":MAILTO:barbuton@carnegiesciencecenter.org
END:VEVENT
END:VCALENDAR