BEGIN:VCALENDAR
VERSION:2.0
PRODID:-//Kidsburgh - ECPv6.0.1.1//NONSGML v1.0//EN
CALSCALE:GREGORIAN
METHOD:PUBLISH
X-ORIGINAL-URL:https://www.kidsburgh.org
X-WR-CALDESC:Events for Kidsburgh
REFRESH-INTERVAL;VALUE=DURATION:PT1H
X-Robots-Tag:noindex
X-PUBLISHED-TTL:PT1H
BEGIN:VTIMEZONE
TZID:America/New_York
BEGIN:DAYLIGHT
TZOFFSETFROM:-0500
TZOFFSETTO:-0400
TZNAME:EDT
DTSTART:20200308T070000
END:DAYLIGHT
BEGIN:STANDARD
TZOFFSETFROM:-0400
TZOFFSETTO:-0500
TZNAME:EST
DTSTART:20201101T060000
END:STANDARD
END:VTIMEZONE
BEGIN:VEVENT
DTSTART;TZID=America/New_York:20200731T100000
DTEND;TZID=America/New_York:20200731T140000
DTSTAMP:20221005T201620
CREATED:20200624T171329Z
LAST-MODIFIED:20200624T171329Z
UID:66461-1596189600-1596204000@www.kidsburgh.org
SUMMARY:Summer Immunization/Sports Physical Clinic at Penn Hills Family Care Connection
DESCRIPTION:UPMC Children’s Hospital\, UPMC Children’s Community Pediatrics and Ronald McDonald House Charities of Pittsburgh and Morgantown are partnering to bring needed vaccines\, safely\, to western Pennsylvania communities. In addition to providing vaccinations to children ages 2 months through high school\, staff will assist with WIC form completion and sports physicals. Children who receive immunizations/physicals will also receive health and safety information\, kindergarten registration information and activity bags full of at-home activities for summer time.
URL:https://www.kidsburgh.org/ec/summer-immunization-sports-physical-clinic-at-penn-hills-family-care-connection/
LOCATION:Penn Hills Family Care Connection\, 10 Duff Rd\, Penn Hills\, PA\, 15235\, United States
CATEGORIES:Health and Wellness
ATTACH;FMTTYPE=image/jpeg:https://www.kidsburgh.org/wp-content/uploads/2020/06/CM-Flier-Page-1-24-scaled.jpg
GEO:40.4639015;-79.8292537
X-APPLE-STRUCTURED-LOCATION;VALUE=URI;X-ADDRESS=Penn Hills Family Care Connection 10 Duff Rd Penn Hills PA 15235 United States;X-APPLE-RADIUS=500;X-TITLE=10 Duff Rd:geo:-79.8292537,40.4639015
END:VEVENT
END:VCALENDAR