BEGIN:VCALENDAR
VERSION:2.0
PRODID:-//Kidsburgh - ECPv6.0.1.1//NONSGML v1.0//EN
CALSCALE:GREGORIAN
METHOD:PUBLISH
X-WR-CALNAME:Kidsburgh
X-ORIGINAL-URL:https://www.kidsburgh.org
X-WR-CALDESC:Events for Kidsburgh
REFRESH-INTERVAL;VALUE=DURATION:PT1H
X-Robots-Tag:noindex
X-PUBLISHED-TTL:PT1H
BEGIN:VTIMEZONE
TZID:America/New_York
BEGIN:DAYLIGHT
TZOFFSETFROM:-0500
TZOFFSETTO:-0400
TZNAME:EDT
DTSTART:20210314T070000
END:DAYLIGHT
BEGIN:STANDARD
TZOFFSETFROM:-0400
TZOFFSETTO:-0500
TZNAME:EST
DTSTART:20211107T060000
END:STANDARD
END:VTIMEZONE
BEGIN:VEVENT
DTSTART;VALUE=DATE:20210628
DTEND;VALUE=DATE:20210724
DTSTAMP:20221005T195251
CREATED:20210316T142126Z
LAST-MODIFIED:20210316T142230Z
UID:76143-1624838400-1627084799@www.kidsburgh.org
SUMMARY:Pitt Gene Team at Home (virtual)
DESCRIPTION:Are you a student at an urban high school and interested in Biology? \nIf so\, the Gene Team program at Pitt would love to hear from you!  We are looking for a group of scientific-minded high school students who want to learn more about Biology while collecting data from home! You will be immersed in data collection that contributes to ongoing research questions over the course of the 4-week program. Additionally\, we will take time to focus on strategies and skills that will be invaluable for applying to and succeeding in college. No prior lab experience is necessary.  Pitt’s Biology Outreach team will provide you with all necessary safety training\, scientific background\, and instruction and you will work in a team with fellow high school students. All of the data collection will happen at your home or in the environment around your house. Pitt will supply any necessary research tools needed. \nYou will carry out research and data collection at home\, teamed with other high-school students. You will also attend weekly virtual sessions that provide strategies and skills for applying for college. The projects for this summer include at-home molecular and microbiology and ecological studies that you can do in your own yard and neighborhood. You will set your own pace on data collection. There will be daily check-ins and group meetings\, but you can collect data around your own schedule. \nSign up here: \nGene Team-at-Home 2021 application
URL:https://www.kidsburgh.org/ec/gene-team-at-home/
LOCATION:Online at your home\, Pittsburgh\, PA\, 15106\, United States
CATEGORIES:Science and Technology,Remake Learning
ATTACH;FMTTYPE=image/jpeg:https://www.kidsburgh.org/wp-content/uploads/2021/03/gene-team-at-home-logo.jpg
ORGANIZER;CN="Pitt%20Bio%20Outreach":MAILTO:reg11@pitt.edu
GEO:40.4088514;-80.1149414
END:VEVENT
END:VCALENDAR