BEGIN:VCALENDAR
VERSION:2.0
PRODID:-//Kidsburgh - ECPv6.0.1.1//NONSGML v1.0//EN
CALSCALE:GREGORIAN
METHOD:PUBLISH
X-WR-CALNAME:Kidsburgh
X-ORIGINAL-URL:https://www.kidsburgh.org
X-WR-CALDESC:Events for Kidsburgh
REFRESH-INTERVAL;VALUE=DURATION:PT1H
X-Robots-Tag:noindex
X-PUBLISHED-TTL:PT1H
BEGIN:VTIMEZONE
TZID:America/New_York
BEGIN:DAYLIGHT
TZOFFSETFROM:-0500
TZOFFSETTO:-0400
TZNAME:EDT
DTSTART:20210314T070000
END:DAYLIGHT
BEGIN:STANDARD
TZOFFSETFROM:-0400
TZOFFSETTO:-0500
TZNAME:EST
DTSTART:20211107T060000
END:STANDARD
END:VTIMEZONE
BEGIN:VEVENT
DTSTART;VALUE=DATE:20210917
DTEND;VALUE=DATE:20210918
DTSTAMP:20221005T195415
CREATED:20210831T144623Z
LAST-MODIFIED:20210831T144623Z
UID:82540-1631836800-1631923199@www.kidsburgh.org
SUMMARY:Smithsonian Educator's Day
DESCRIPTION:On Friday\, September 17th\, 2021 as part of the 175th anniversary celebrations\, the Smithsonian Institution will host its inaugural annual Educator’s Day Conference! \nPreK–12 educators from across the nation are invited to participate in this free\, virtual conference. Sessions will bring together teachers and museum educators to explore innovative inter-disciplinary lesson design\, opportunities to cultivate skill development across content areas\, and provide insights into how the Smithsonian tools and resources can enhance learning. In addition\, participants will go behind-the-scenes to talk directly with experts\, get a sneak peek into upcoming exhibitions\, and learn about current research initiatives at the Smithsonian.
URL:https://www.kidsburgh.org/ec/smithsonian-educators-day/
LOCATION:Online
CATEGORIES:Arts and Culture,Science and Technology,Education,Community
ATTACH;FMTTYPE=image/jpeg:https://www.kidsburgh.org/wp-content/uploads/2021/08/Twitter-static.jpg
END:VEVENT
BEGIN:VEVENT
DTSTART;TZID=America/New_York:20210407T170000
DTEND;TZID=America/New_York:20210407T180000
DTSTAMP:20221005T195415
CREATED:20210324T182124Z
LAST-MODIFIED:20210324T182124Z
UID:77012-1617814800-1617818400@www.kidsburgh.org
SUMMARY:Let’s Move Pittsburgh Playful Popup Series
DESCRIPTION:April 7\, 14\, 21\, 28 \nWiggly fidgety kids will have a ball in these energetic Playful Popup sessions from Let’s Move Pittsburgh and Phipps Conservatory. The weekly series engages kids ages 5-8 and their grownups in virtual programming that combines education with movement and games. Subjects range from learning about pollinators to forest animals to butterflies and exotic birds. Playful Popup ends with a glorious Full Bloom Ballet that’s sure to entertain. Registration for the complete four-week series is $28.
URL:https://www.kidsburgh.org/ec/lets-move-pittsburgh-playful-popup-series/2021-04-07/
LOCATION:Online
CATEGORIES:Science and Technology
END:VEVENT
BEGIN:VEVENT
DTSTART;TZID=America/New_York:20210225T170000
DTEND;TZID=America/New_York:20210225T180000
DTSTAMP:20221005T195415
CREATED:20210121T182047Z
LAST-MODIFIED:20210121T182047Z
UID:74653-1614272400-1614276000@www.kidsburgh.org
SUMMARY:Winter World Explorers Trivia Night (virtual)
DESCRIPTION:Winter World Explorers Trivia Night\, Phipps Conservatory and Botanical Gardens: Feb. 25 \nKids ages 6-10 years and their families can compete as a team at Phipps’ Winter World Explorers Trivia Night. Test your knowledge about wintertime plants and animals in this Jeopardy-style challenge\, the latest installment of the Night Owl Family Game Series. Registration for the Zoom event is $12 or $25 for the family.
URL:https://www.kidsburgh.org/ec/winter-world-explorers-trivia-night-virtual/
LOCATION:Online
END:VEVENT
END:VCALENDAR