BEGIN:VCALENDAR
VERSION:2.0
PRODID:-//Kidsburgh - ECPv6.0.1.1//NONSGML v1.0//EN
CALSCALE:GREGORIAN
METHOD:PUBLISH
X-ORIGINAL-URL:https://www.kidsburgh.org
X-WR-CALDESC:Events for Kidsburgh
REFRESH-INTERVAL;VALUE=DURATION:PT1H
X-Robots-Tag:noindex
X-PUBLISHED-TTL:PT1H
BEGIN:VTIMEZONE
TZID:America/New_York
BEGIN:DAYLIGHT
TZOFFSETFROM:-0500
TZOFFSETTO:-0400
TZNAME:EDT
DTSTART:20200308T070000
END:DAYLIGHT
BEGIN:STANDARD
TZOFFSETFROM:-0400
TZOFFSETTO:-0500
TZNAME:EST
DTSTART:20201101T060000
END:STANDARD
END:VTIMEZONE
BEGIN:VEVENT
DTSTART;TZID=America/New_York:20200708T100000
DTEND;TZID=America/New_York:20200708T140000
DTSTAMP:20221005T200714
CREATED:20200618T175028Z
LAST-MODIFIED:20200618T175028Z
UID:66198-1594202400-1594216800@www.kidsburgh.org
SUMMARY:Summer Immunization Clinic at the Old S&R Market Lot
DESCRIPTION:Summer Immunization Clinic at the Old S&R Market Lot \nUPMC Children’s Hospital\, UPMC Children’s Community Pediatrics and Ronald McDonald House Charities of Pittsburgh and Morgantown are partnering to bring needed vaccines\, safely\, to western Pennsylvania communities. In addition to providing vaccinations to children ages 2 months through high school\, staff will assist with WIC form completion. Children who receive immunizations will also receive health and safety information\, kindergarten registration information and activity bags full of at-home activities for summertime.
URL:https://www.kidsburgh.org/ec/summer-immunization-clinic-at-the-old-sr-market-lot/
LOCATION:Old S&amp;R Market Lot\, 4915 Second Ave\, Pittsburgh\, PA\, 15207\, United States
CATEGORIES:Health and Wellness
ATTACH;FMTTYPE=image/jpeg:https://www.kidsburgh.org/wp-content/uploads/2020/06/CM-Flier-Page-1-5-scaled.jpg
GEO:40.4094737;-79.9435346
X-APPLE-STRUCTURED-LOCATION;VALUE=URI;X-ADDRESS=Old S&amp;R Market Lot 4915 Second Ave Pittsburgh PA 15207 United States;X-APPLE-RADIUS=500;X-TITLE=4915 Second Ave:geo:-79.9435346,40.4094737
END:VEVENT
END:VCALENDAR