BEGIN:VCALENDAR
VERSION:2.0
PRODID:-//Kidsburgh - ECPv6.0.1.1//NONSGML v1.0//EN
CALSCALE:GREGORIAN
METHOD:PUBLISH
X-WR-CALNAME:Kidsburgh
X-ORIGINAL-URL:https://www.kidsburgh.org
X-WR-CALDESC:Events for Kidsburgh
REFRESH-INTERVAL;VALUE=DURATION:PT1H
X-Robots-Tag:noindex
X-PUBLISHED-TTL:PT1H
BEGIN:VTIMEZONE
TZID:America/New_York
BEGIN:DAYLIGHT
TZOFFSETFROM:-0500
TZOFFSETTO:-0400
TZNAME:EDT
DTSTART:20200308T070000
END:DAYLIGHT
BEGIN:STANDARD
TZOFFSETFROM:-0400
TZOFFSETTO:-0500
TZNAME:EST
DTSTART:20201101T060000
END:STANDARD
END:VTIMEZONE
BEGIN:VEVENT
DTSTART;VALUE=DATE:20200328
DTEND;VALUE=DATE:20200329
DTSTAMP:20221005T194800
CREATED:20200306T154356Z
LAST-MODIFIED:20200306T154356Z
UID:61814-1585353600-1585439999@www.kidsburgh.org
SUMMARY:Pittsburgh EdFest
DESCRIPTION:Pittsburgh EdFest: A Celebration of Education \nJoin educators\, parents\, students\, exhibitors\, and experts for Pittsburgh EdFest 2020\, an educational forum that underscores the importance of lifelong learning and provides ways to support students in the process. \nExplore an array of topics through Presentations for Parents and Student Workshops (for 4th through 12th grade students). See student music and dance performances. Pick up lunch from one of Pittsburgh’s popular food trucks\, or pack your own. Talk with program representatives at their exhibit tables which will be open throughout the day. Free and open to all! \nVisit www.scholarsearchassoc.com and click on Pittsburgh 2020 to see details and program schedule. Sign up for EdFest and receive latest news and updates.
URL:https://www.kidsburgh.org/ec/pittsburgh-edfest-2/
LOCATION:Oakland Catholic High School\, 144 N. Craig Street\, Pittsburgh\, United States
CATEGORIES:Arts and Culture,Science and Technology,Health and Wellness,Education,Community,Remake Learning,Summer '18
ATTACH;FMTTYPE=image/jpeg:https://www.kidsburgh.org/wp-content/uploads/2020/03/pittsburgh_tower-2-1.jpg
ORGANIZER;CN="Scholar%20Search%20Associates":MAILTO:ssa@scholarsearchassoc.com
GEO:40.4492415;-79.9498728
X-APPLE-STRUCTURED-LOCATION;VALUE=URI;X-ADDRESS=Oakland Catholic High School 144 N. Craig Street Pittsburgh United States;X-APPLE-RADIUS=500;X-TITLE=144 N. Craig Street:geo:-79.9498728,40.4492415
END:VEVENT
END:VCALENDAR