BEGIN:VCALENDAR
VERSION:2.0
PRODID:-//Kidsburgh - ECPv6.0.1.1//NONSGML v1.0//EN
CALSCALE:GREGORIAN
METHOD:PUBLISH
X-WR-CALNAME:Kidsburgh
X-ORIGINAL-URL:https://www.kidsburgh.org
X-WR-CALDESC:Events for Kidsburgh
REFRESH-INTERVAL;VALUE=DURATION:PT1H
X-Robots-Tag:noindex
X-PUBLISHED-TTL:PT1H
BEGIN:VTIMEZONE
TZID:America/New_York
BEGIN:DAYLIGHT
TZOFFSETFROM:-0500
TZOFFSETTO:-0400
TZNAME:EDT
DTSTART:20220313T070000
END:DAYLIGHT
BEGIN:STANDARD
TZOFFSETFROM:-0400
TZOFFSETTO:-0500
TZNAME:EST
DTSTART:20221106T060000
END:STANDARD
END:VTIMEZONE
BEGIN:VEVENT
DTSTART;TZID=America/New_York:20220517T180000
DTEND;TZID=America/New_York:20220517T200000
DTSTAMP:20221005T195735
CREATED:20220426T154006Z
LAST-MODIFIED:20220426T154006Z
UID:91010-1652810400-1652817600@www.kidsburgh.org
SUMMARY:Avalon Elementary STEAM Night
DESCRIPTION:Avalon Elementary STEAM Night [Arts|Maker|Technology] \nTues\, May 17\, 6:00-8:00pm \nAges: Grades Pre K-6 \nHosted by: Northgate School District \nAvalon students and families are invited to our annual STEAM Night\, where you can create a green screen photo with a dinosaur\, design your own button to wear\, or program a robot.  \nhttps://remakelearningdays.org/event/avalon-elementary-steam-night/# 
URL:https://www.kidsburgh.org/ec/avalon-elementary-steam-night/
LOCATION:Northgate School District\, 721 California Ave\, Pittsburgh\, PA\, United States
CATEGORIES:Community,Remake Learning
END:VEVENT
END:VCALENDAR