BEGIN:VCALENDAR
VERSION:2.0
PRODID:-//Kidsburgh - ECPv6.0.1.1//NONSGML v1.0//EN
CALSCALE:GREGORIAN
METHOD:PUBLISH
X-ORIGINAL-URL:https://www.kidsburgh.org
X-WR-CALDESC:Events for Kidsburgh
REFRESH-INTERVAL;VALUE=DURATION:PT1H
X-Robots-Tag:noindex
X-PUBLISHED-TTL:PT1H
BEGIN:VTIMEZONE
TZID:America/New_York
BEGIN:DAYLIGHT
TZOFFSETFROM:-0500
TZOFFSETTO:-0400
TZNAME:EDT
DTSTART:20220313T070000
END:DAYLIGHT
BEGIN:STANDARD
TZOFFSETFROM:-0400
TZOFFSETTO:-0500
TZNAME:EST
DTSTART:20221106T060000
END:STANDARD
END:VTIMEZONE
BEGIN:VEVENT
DTSTART;TZID=America/New_York:20220122T113000
DTEND;TZID=America/New_York:20220122T143000
DTSTAMP:20221005T201710
CREATED:20220119T220233Z
LAST-MODIFIED:20220119T220419Z
UID:87376-1642851000-1642861800@www.kidsburgh.org
SUMMARY:Outdoor Ice Skating Rinks
DESCRIPTION:The ice rinks are now open for the season! Buy your favorite skater an Ice Skating Gift Certificate by calling any Parks facility today.
URL:https://www.kidsburgh.org/ec/outdoor-ice-skating-rinks/2022-01-22/
LOCATION:North Park Skate Rink\, 1101 Pearce Mill Road\, Allison Park\, 15101
CATEGORIES:Health and Wellness,Community
ATTACH;FMTTYPE=image/jpeg:https://www.kidsburgh.org/wp-content/uploads/2022/01/ice-skating-icon.jpg
END:VEVENT
END:VCALENDAR