BEGIN:VCALENDAR
VERSION:2.0
PRODID:-//Kidsburgh - ECPv6.0.1.1//NONSGML v1.0//EN
CALSCALE:GREGORIAN
METHOD:PUBLISH
X-WR-CALNAME:Kidsburgh
X-ORIGINAL-URL:https://www.kidsburgh.org
X-WR-CALDESC:Events for Kidsburgh
REFRESH-INTERVAL;VALUE=DURATION:PT1H
X-Robots-Tag:noindex
X-PUBLISHED-TTL:PT1H
BEGIN:VTIMEZONE
TZID:America/New_York
BEGIN:DAYLIGHT
TZOFFSETFROM:-0500
TZOFFSETTO:-0400
TZNAME:EDT
DTSTART:20210314T070000
END:DAYLIGHT
BEGIN:STANDARD
TZOFFSETFROM:-0400
TZOFFSETTO:-0500
TZNAME:EST
DTSTART:20211107T060000
END:STANDARD
END:VTIMEZONE
BEGIN:VEVENT
DTSTART;TZID=America/New_York:20211024T120000
DTEND;TZID=America/New_York:20211024T140000
DTSTAMP:20221005T200521
CREATED:20210922T204608Z
LAST-MODIFIED:20210922T220103Z
UID:83482-1635076800-1635084000@www.kidsburgh.org
SUMMARY:North Park Trunk or Treat
DESCRIPTION:Celebrate spooky season by joining us for Trunk or Treat! Wear your Halloween costume and join us for candy and fun! We encourage participants to decorate their vehicles\, bring candy\, and dress up in their best Halloween costumes! \nRegistration Dates: Last day for standard registration: Oct 23\, 2021\nLast day for Internet registration: Oct 23\, 2021
URL:https://www.kidsburgh.org/ec/north-park-trunk-or-treat/
LOCATION:North Park Pool Parking Lot\, Hemlock Dr\, Allison Park\, 15101
CATEGORIES:Community
ATTACH;FMTTYPE=image/jpeg:https://www.kidsburgh.org/wp-content/uploads/2021/09/Allegheny-Parks-Trunk-or-Treat-1.jpg
END:VEVENT
END:VCALENDAR