BEGIN:VCALENDAR
VERSION:2.0
PRODID:-//Kidsburgh - ECPv6.0.1.1//NONSGML v1.0//EN
CALSCALE:GREGORIAN
METHOD:PUBLISH
X-ORIGINAL-URL:https://www.kidsburgh.org
X-WR-CALDESC:Events for Kidsburgh
REFRESH-INTERVAL;VALUE=DURATION:PT1H
X-Robots-Tag:noindex
X-PUBLISHED-TTL:PT1H
BEGIN:VTIMEZONE
TZID:America/New_York
BEGIN:DAYLIGHT
TZOFFSETFROM:-0500
TZOFFSETTO:-0400
TZNAME:EDT
DTSTART:20190310T070000
END:DAYLIGHT
BEGIN:STANDARD
TZOFFSETFROM:-0400
TZOFFSETTO:-0500
TZNAME:EST
DTSTART:20191103T060000
END:STANDARD
END:VTIMEZONE
BEGIN:VEVENT
DTSTART;TZID=America/New_York:20190921T130000
DTEND;TZID=America/New_York:20190921T160000
DTSTAMP:20221005T195044
CREATED:20190808T172154Z
LAST-MODIFIED:20190808T172154Z
UID:53964-1569070800-1569081600@www.kidsburgh.org
SUMMARY:Autism-Friendly Family Fest
DESCRIPTION:Join Parents in Toto on Saturday\, September 21st at Noah’s Event Venue for Autism Friendly Family Fest! We will celebrate the local autism community with help from our participating vendors\, the generosity of our donors and the positive spirit of our guests! There is no fee to attend and all are welcome! We’ll have games\, activities\, information\, snacks\, a quiet room and more! If you’re interested in a little extra\, register for our caregivers catered dinner here: https://forms.gle/CSX4JXSzbbi5EjTg7 only $10! For more information about the dinner\, childcare\, being a vendor or becoming a donor please contact Megan@parentsintoto.org or Katelyn KMustovich@gmail.com!
URL:https://www.kidsburgh.org/ec/autism-friendly-family-fest/
LOCATION:NOAH’s Event Venue\, 10020 Pendleton Way\, Cranberry Township\, PA\, 16066\, United States
CATEGORIES:Community
ATTACH;FMTTYPE=image/png:https://www.kidsburgh.org/wp-content/uploads/2019/08/FamilyFest-postcard-2.png
ORGANIZER;CN="Parents%20in%20Toto%20Autism%20Resource%20Center":MAILTO:info
GEO:40.682525;-80.0811673
X-APPLE-STRUCTURED-LOCATION;VALUE=URI;X-ADDRESS=NOAH’s Event Venue 10020 Pendleton Way Cranberry Township PA 16066 United States;X-APPLE-RADIUS=500;X-TITLE=10020 Pendleton Way:geo:-80.0811673,40.682525
END:VEVENT
END:VCALENDAR