BEGIN:VCALENDAR
VERSION:2.0
PRODID:-//Kidsburgh - ECPv6.0.1.1//NONSGML v1.0//EN
CALSCALE:GREGORIAN
METHOD:PUBLISH
X-WR-CALNAME:Kidsburgh
X-ORIGINAL-URL:https://www.kidsburgh.org
X-WR-CALDESC:Events for Kidsburgh
REFRESH-INTERVAL;VALUE=DURATION:PT1H
X-Robots-Tag:noindex
X-PUBLISHED-TTL:PT1H
BEGIN:VTIMEZONE
TZID:America/New_York
BEGIN:DAYLIGHT
TZOFFSETFROM:-0500
TZOFFSETTO:-0400
TZNAME:EDT
DTSTART:20200308T070000
END:DAYLIGHT
BEGIN:STANDARD
TZOFFSETFROM:-0400
TZOFFSETTO:-0500
TZNAME:EST
DTSTART:20201101T060000
END:STANDARD
END:VTIMEZONE
BEGIN:VEVENT
DTSTART;TZID=America/New_York:20200819T100000
DTEND;TZID=America/New_York:20200819T140000
DTSTAMP:20221005T201714
CREATED:20200618T180247Z
LAST-MODIFIED:20200618T180247Z
UID:66250-1597831200-1597845600@www.kidsburgh.org
SUMMARY:Summer Immunization Clinic at New Castle Jr Sr High School
DESCRIPTION:UPMC Children’s Hospital\, UPMC Children’s Community Pediatrics and Ronald McDonald House Charities of Pittsburgh and Morgantown are partnering to bring needed vaccines\, safely\, to western Pennsylvania communities. In addition to providing vaccinations to children ages 2 months through high school\, staff will assist with WIC form completion. Children who receive immunizations will also receive health and safety information\, kindergarten registration information and activity bags full of at-home activities for summer time.
URL:https://www.kidsburgh.org/ec/summer-immunization-clinic-at-new-castle-jr-sr-high-school-2/
LOCATION:New Castle Jr Sr High School\, 300 E Lincoln Ave\, New Castle\, PA\, 16101\, United States
CATEGORIES:Health and Wellness
ATTACH;FMTTYPE=image/jpeg:https://www.kidsburgh.org/wp-content/uploads/2020/06/CM-Flier-Page-1-16-scaled.jpg
GEO:41.004806;-80.340946
X-APPLE-STRUCTURED-LOCATION;VALUE=URI;X-ADDRESS=New Castle Jr Sr High School 300 E Lincoln Ave New Castle PA 16101 United States;X-APPLE-RADIUS=500;X-TITLE=300 E Lincoln Ave:geo:-80.340946,41.004806
END:VEVENT
BEGIN:VEVENT
DTSTART;TZID=America/New_York:20200720T100000
DTEND;TZID=America/New_York:20200720T140000
DTSTAMP:20221005T201714
CREATED:20200618T180205Z
LAST-MODIFIED:20200618T180205Z
UID:66246-1595239200-1595253600@www.kidsburgh.org
SUMMARY:Summer Immunization Clinic at New Castle Jr Sr High School
DESCRIPTION:UPMC Children’s Hospital\, UPMC Children’s Community Pediatrics and Ronald McDonald House Charities of Pittsburgh and Morgantown are partnering to bring needed vaccines\, safely\, to western Pennsylvania communities. In addition to providing vaccinations to children ages 2 months through high school\, staff will assist with WIC form completion. Children who receive immunizations will also receive health and safety information\, kindergarten registration information and activity bags full of at-home activities for summer time.
URL:https://www.kidsburgh.org/ec/summer-immunization-clinic-at-new-castle-jr-sr-high-school/
LOCATION:New Castle Jr Sr High School\, 300 E Lincoln Ave\, New Castle\, PA\, 16101\, United States
CATEGORIES:Health and Wellness
ATTACH;FMTTYPE=image/jpeg:https://www.kidsburgh.org/wp-content/uploads/2020/06/CM-Flier-Page-1-15-scaled.jpg
GEO:41.004806;-80.340946
X-APPLE-STRUCTURED-LOCATION;VALUE=URI;X-ADDRESS=New Castle Jr Sr High School 300 E Lincoln Ave New Castle PA 16101 United States;X-APPLE-RADIUS=500;X-TITLE=300 E Lincoln Ave:geo:-80.340946,41.004806
END:VEVENT
END:VCALENDAR