BEGIN:VCALENDAR
VERSION:2.0
PRODID:-//Kidsburgh - ECPv6.0.1.1//NONSGML v1.0//EN
CALSCALE:GREGORIAN
METHOD:PUBLISH
X-ORIGINAL-URL:https://www.kidsburgh.org
X-WR-CALDESC:Events for Kidsburgh
REFRESH-INTERVAL;VALUE=DURATION:PT1H
X-Robots-Tag:noindex
X-PUBLISHED-TTL:PT1H
BEGIN:VTIMEZONE
TZID:America/New_York
BEGIN:DAYLIGHT
TZOFFSETFROM:-0500
TZOFFSETTO:-0400
TZNAME:EDT
DTSTART:20220313T070000
END:DAYLIGHT
BEGIN:STANDARD
TZOFFSETFROM:-0400
TZOFFSETTO:-0500
TZNAME:EST
DTSTART:20221106T060000
END:STANDARD
END:VTIMEZONE
BEGIN:VEVENT
DTSTART;TZID=America/New_York:20220514T100000
DTEND;TZID=America/New_York:20220514T160000
DTSTAMP:20221005T195142
CREATED:20220426T133247Z
LAST-MODIFIED:20220426T133247Z
UID:90920-1652522400-1652544000@www.kidsburgh.org
SUMMARY:We’re not just Growing\, We’re Thriving
DESCRIPTION:We’re not just Growing\, We’re Thriving [Career Ready PA + Arts|Maker|Outdoor Learning|Science|Technology] \nSat\, May 14\, 10:00am-4:00pm \nAges: All Ages \nHosted by: New Brighton Public Library \nTake a deep dive into plants and permaculture to introduce our community to the possibility of growing their own sustainable food. \nhttps://remakelearningdays.org/event/were-not-just-growing-were-thriving/# 
URL:https://www.kidsburgh.org/ec/were-not-just-growing-were-thriving/
LOCATION:New Brighton Public Library\, 1021 3rd Ave\, New Brighton\, PA\, United States
CATEGORIES:Community,Remake Learning
ATTACH;FMTTYPE=image/jpeg:https://www.kidsburgh.org/wp-content/uploads/2022/04/05-14-2022_pa-southwestern_childrenslibnbpl-scaled.jpg
END:VEVENT
END:VCALENDAR