BEGIN:VCALENDAR
VERSION:2.0
PRODID:-//Kidsburgh - ECPv6.0.1.1//NONSGML v1.0//EN
CALSCALE:GREGORIAN
METHOD:PUBLISH
X-WR-CALNAME:Kidsburgh
X-ORIGINAL-URL:https://www.kidsburgh.org
X-WR-CALDESC:Events for Kidsburgh
REFRESH-INTERVAL;VALUE=DURATION:PT1H
X-Robots-Tag:noindex
X-PUBLISHED-TTL:PT1H
BEGIN:VTIMEZONE
TZID:America/New_York
BEGIN:DAYLIGHT
TZOFFSETFROM:-0500
TZOFFSETTO:-0400
TZNAME:EDT
DTSTART:20220313T070000
END:DAYLIGHT
BEGIN:STANDARD
TZOFFSETFROM:-0400
TZOFFSETTO:-0500
TZNAME:EST
DTSTART:20221106T060000
END:STANDARD
END:VTIMEZONE
BEGIN:VEVENT
DTSTART;TZID=America/New_York:20220409T130000
DTEND;TZID=America/New_York:20220409T150000
DTSTAMP:20221005T195900
CREATED:20220217T214245Z
LAST-MODIFIED:20220217T214245Z
UID:88445-1649509200-1649516400@www.kidsburgh.org
SUMMARY:Mt Lebanon Annual Egg Hunt
DESCRIPTION:Bunny Alert\nThis is the time of year when that floppy-eared rabbit comes around\, so come to the Recreation Center and join in the crowd. Bring your cameras and basket too\, and hop\, hop\, hop through the park to look for eggs hidden just for you.
URL:https://www.kidsburgh.org/ec/mt-lebanon-annual-egg-hunt/
LOCATION:Mt. Lebanon Main Park\, Pittsburgh\, PA\, 15222\, United States
CATEGORIES:Community
ATTACH;FMTTYPE=image/jpeg:https://www.kidsburgh.org/wp-content/uploads/2022/02/mtlebanonegghunt-scaled.jpg
END:VEVENT
END:VCALENDAR