BEGIN:VCALENDAR
VERSION:2.0
PRODID:-//Kidsburgh - ECPv6.0.1.1//NONSGML v1.0//EN
CALSCALE:GREGORIAN
METHOD:PUBLISH
X-WR-CALNAME:Kidsburgh
X-ORIGINAL-URL:https://www.kidsburgh.org
X-WR-CALDESC:Events for Kidsburgh
REFRESH-INTERVAL;VALUE=DURATION:PT1H
X-Robots-Tag:noindex
X-PUBLISHED-TTL:PT1H
BEGIN:VTIMEZONE
TZID:America/New_York
BEGIN:DAYLIGHT
TZOFFSETFROM:-0500
TZOFFSETTO:-0400
TZNAME:EDT
DTSTART:20190310T070000
END:DAYLIGHT
BEGIN:STANDARD
TZOFFSETFROM:-0400
TZOFFSETTO:-0500
TZNAME:EST
DTSTART:20191103T060000
END:STANDARD
END:VTIMEZONE
BEGIN:VEVENT
DTSTART;VALUE=DATE:20191214
DTEND;VALUE=DATE:20191215
DTSTAMP:20221005T201637
CREATED:20191119T153204Z
LAST-MODIFIED:20191119T153834Z
UID:57047-1576281600-1576367999@www.kidsburgh.org
SUMMARY:Morning Glory Inn Breakfast With Santa
DESCRIPTION:Get excited for our 4th Annual Breakfast With Santa at 9 a.m.\, 11 a.m. and  1 p.m. Dec. 14 and 15.  \nCome down and have a home-cooked breakfast and enjoy our hot cocoa bar. Our gingerbread house will be set up with a cookie making station to divulge your sweet tooth. We will also have a letter-writing station to let him know what you want for Christmas before you talk to him yourself! Everyone will get to talk to Santa and there are no photo fees.\nRaffle baskets will be available as well as our famous punch board for $2 a punch!\nThis is an outdoor event\, so please dress accordingly! Tickets are $15 per person\, children under 2 get in free.\nIf you bought tickets separately\, but would like to sit together\, please call or email to set up seating reservations.\njoy@gloryinn.com\n412.427.2799
URL:https://www.kidsburgh.org/ec/morning-glory-inn-breakfast-with-santa/2019-12-14/
LOCATION:Morning Glory Inn\, 2119 Sarah Street\, Pittsburgh\, PA\, 15203\, United States
CATEGORIES:Community
ATTACH;FMTTYPE=image/jpeg:https://www.kidsburgh.org/wp-content/uploads/2019/11/Breakfast-with-Santa.jpg
GEO:40.4277396;-79.9755052
X-APPLE-STRUCTURED-LOCATION;VALUE=URI;X-ADDRESS=Morning Glory Inn 2119 Sarah Street Pittsburgh PA 15203 United States;X-APPLE-RADIUS=500;X-TITLE=2119 Sarah Street:geo:-79.9755052,40.4277396
END:VEVENT
END:VCALENDAR