BEGIN:VCALENDAR
VERSION:2.0
PRODID:-//Kidsburgh - ECPv6.0.1.1//NONSGML v1.0//EN
CALSCALE:GREGORIAN
METHOD:PUBLISH
X-ORIGINAL-URL:https://www.kidsburgh.org
X-WR-CALDESC:Events for Kidsburgh
REFRESH-INTERVAL;VALUE=DURATION:PT1H
X-Robots-Tag:noindex
X-PUBLISHED-TTL:PT1H
BEGIN:VTIMEZONE
TZID:America/New_York
BEGIN:DAYLIGHT
TZOFFSETFROM:-0500
TZOFFSETTO:-0400
TZNAME:EDT
DTSTART:20220313T070000
END:DAYLIGHT
BEGIN:STANDARD
TZOFFSETFROM:-0400
TZOFFSETTO:-0500
TZNAME:EST
DTSTART:20221106T060000
END:STANDARD
END:VTIMEZONE
BEGIN:VEVENT
DTSTART;TZID=America/New_York:20220512T090000
DTEND;TZID=America/New_York:20220512T110000
DTSTAMP:20221005T201732
CREATED:20220420T075333Z
LAST-MODIFIED:20220420T075333Z
UID:90384-1652346000-1652353200@www.kidsburgh.org
SUMMARY:PPC's MLK Garden Clean-UP
DESCRIPTION:Please join us for a spring clean-up of the MLK Garden in the Hill District in preparation for this year’s growing season!
URL:https://www.kidsburgh.org/ec/ppcs-mlk-garden-clean-up/
LOCATION:MLK Community Garden\, 201 Kirkpatrick Street
CATEGORIES:Community
ATTACH;FMTTYPE=image/jpeg:https://www.kidsburgh.org/wp-content/uploads/2022/04/Anchor_Green_2021__3_.jpg
END:VEVENT
END:VCALENDAR