BEGIN:VCALENDAR
VERSION:2.0
PRODID:-//Kidsburgh - ECPv6.0.1.1//NONSGML v1.0//EN
CALSCALE:GREGORIAN
METHOD:PUBLISH
X-ORIGINAL-URL:https://www.kidsburgh.org
X-WR-CALDESC:Events for Kidsburgh
REFRESH-INTERVAL;VALUE=DURATION:PT1H
X-Robots-Tag:noindex
X-PUBLISHED-TTL:PT1H
BEGIN:VTIMEZONE
TZID:America/New_York
BEGIN:DAYLIGHT
TZOFFSETFROM:-0500
TZOFFSETTO:-0400
TZNAME:EDT
DTSTART:20190310T070000
END:DAYLIGHT
BEGIN:STANDARD
TZOFFSETFROM:-0400
TZOFFSETTO:-0500
TZNAME:EST
DTSTART:20191103T060000
END:STANDARD
BEGIN:DAYLIGHT
TZOFFSETFROM:-0500
TZOFFSETTO:-0400
TZNAME:EDT
DTSTART:20200308T070000
END:DAYLIGHT
BEGIN:STANDARD
TZOFFSETFROM:-0400
TZOFFSETTO:-0500
TZNAME:EST
DTSTART:20201101T060000
END:STANDARD
BEGIN:DAYLIGHT
TZOFFSETFROM:-0500
TZOFFSETTO:-0400
TZNAME:EDT
DTSTART:20210314T070000
END:DAYLIGHT
BEGIN:STANDARD
TZOFFSETFROM:-0400
TZOFFSETTO:-0500
TZNAME:EST
DTSTART:20211107T060000
END:STANDARD
BEGIN:DAYLIGHT
TZOFFSETFROM:-0500
TZOFFSETTO:-0400
TZNAME:EDT
DTSTART:20220313T070000
END:DAYLIGHT
BEGIN:STANDARD
TZOFFSETFROM:-0400
TZOFFSETTO:-0500
TZNAME:EST
DTSTART:20221106T060000
END:STANDARD
END:VTIMEZONE
BEGIN:VEVENT
DTSTART;TZID=America/New_York:20220706T120000
DTEND;TZID=America/New_York:20220706T140000
DTSTAMP:20221005T200626
CREATED:20220614T163549Z
LAST-MODIFIED:20220614T163759Z
UID:92626-1657108800-1657116000@www.kidsburgh.org
SUMMARY:Summer at the Square
DESCRIPTION:In the heart of downtown Pittsburgh lies Mellon Square\, a magnificent green space\, and the perfect place to step outside for a lunch break! \nEvery Wednesday this summer\, please join us in Mellon Square for your lunch hour! There will be music\, games\, and more from 12:00P.M – 2:00P.M.
URL:https://www.kidsburgh.org/ec/summer-at-the-square/2022-07-06/
LOCATION:Mellon Square\, Sixth Avenue and Smithfield Street\, Pittsburgh\, PA\, 15222\, United States
CATEGORIES:Community
ATTACH;FMTTYPE=image/jpeg:https://www.kidsburgh.org/wp-content/uploads/2022/06/summer-at-the-square.jpeg
GEO:40.441514;-79.998137
X-APPLE-STRUCTURED-LOCATION;VALUE=URI;X-ADDRESS=Mellon Square Sixth Avenue and Smithfield Street Pittsburgh PA 15222 United States;X-APPLE-RADIUS=500;X-TITLE=Sixth Avenue and Smithfield Street:geo:-79.998137,40.441514
END:VEVENT
BEGIN:VEVENT
DTSTART;TZID=America/New_York:20190605T120000
DTEND;TZID=America/New_York:20190605T130000
DTSTAMP:20221005T200626
CREATED:20190603T141946Z
LAST-MODIFIED:20190603T141946Z
UID:52351-1559736000-1559739600@www.kidsburgh.org
SUMMARY:Summer at the Square Kick Off Celebration
DESCRIPTION:Big things are coming to Mellon Square this Summer! Citizens Bank and the Pittsburgh Parks Conservancy have partnered to bring you Summer at the Square\, a new event series that features fitness classes\, live music\, and entertainment—all free\, all Summer\, in the heart of downtown. \nJoin us at noon on Wednesday\, June 5 in Mellon Square. After a brief opening ceremony\, enjoy some larger-than-life games\, a live performance by local band\, Scott & Rosanna\, and sweet treats from Millie’s Homemade Ice Cream (free to the first 100 guests)!
URL:https://www.kidsburgh.org/ec/summer-at-the-square-kick-off-celebration/
LOCATION:Mellon Square\, Sixth Avenue and Smithfield Street\, Pittsburgh\, PA\, 15222\, United States
GEO:40.441514;-79.998137
X-APPLE-STRUCTURED-LOCATION;VALUE=URI;X-ADDRESS=Mellon Square Sixth Avenue and Smithfield Street Pittsburgh PA 15222 United States;X-APPLE-RADIUS=500;X-TITLE=Sixth Avenue and Smithfield Street:geo:-79.998137,40.441514
END:VEVENT
END:VCALENDAR