BEGIN:VCALENDAR
VERSION:2.0
PRODID:-//Kidsburgh - ECPv6.0.1.1//NONSGML v1.0//EN
CALSCALE:GREGORIAN
METHOD:PUBLISH
X-ORIGINAL-URL:https://www.kidsburgh.org
X-WR-CALDESC:Events for Kidsburgh
REFRESH-INTERVAL;VALUE=DURATION:PT1H
X-Robots-Tag:noindex
X-PUBLISHED-TTL:PT1H
BEGIN:VTIMEZONE
TZID:America/New_York
BEGIN:DAYLIGHT
TZOFFSETFROM:-0500
TZOFFSETTO:-0400
TZNAME:EDT
DTSTART:20220313T070000
END:DAYLIGHT
BEGIN:STANDARD
TZOFFSETFROM:-0400
TZOFFSETTO:-0500
TZNAME:EST
DTSTART:20221106T060000
END:STANDARD
END:VTIMEZONE
BEGIN:VEVENT
DTSTART;TZID=America/New_York:20220427T180000
DTEND;TZID=America/New_York:20220427T190000
DTSTAMP:20221005T195658
CREATED:20220329T112107Z
LAST-MODIFIED:20220329T112107Z
UID:89666-1651082400-1651086000@www.kidsburgh.org
SUMMARY:PPC's 'Tree Hugger' Yoga
DESCRIPTION:Yoga for Tree Huggers is a class that celebrates Earth Day by nodding to the very organisms that help us to breathe easier and stand taller. This gentle yoga class will focus on breathing\, meditation\, and deepening our connection with Planet Earth. This hike/activity is best for families with older children (ages 8+). 
URL:https://www.kidsburgh.org/ec/ppcs-tree-hugger-yoga-5/
LOCATION:Mellon Park North side in the green space across from the basketball courts near the shelter\, Pittsburgh\, PA\, 15222\, United States
CATEGORIES:Advocacy,Community
ATTACH;FMTTYPE=image/png:https://www.kidsburgh.org/wp-content/uploads/2022/03/Screenshot-218-27.png
END:VEVENT
BEGIN:VEVENT
DTSTART;TZID=America/New_York:20220402T140000
DTEND;TZID=America/New_York:20220402T150000
DTSTAMP:20221005T195658
CREATED:20220328T122149Z
LAST-MODIFIED:20220328T122149Z
UID:89604-1648908000-1648911600@www.kidsburgh.org
SUMMARY:PPC's Dance and be Fit with Roland Ford
DESCRIPTION:Join Roland of Dance & Be Fit and get your body active during Earth Month! These movements are inclusive to all and will have you feeling great! Truly for all ages.
URL:https://www.kidsburgh.org/ec/ppcs-dance-and-be-fit-with-roland-ford/
LOCATION:Mellon Park North side in the green space across from the basketball courts near the shelter\, Pittsburgh\, PA\, 15222\, United States
CATEGORIES:Health and Wellness,Community
ATTACH;FMTTYPE=image/png:https://www.kidsburgh.org/wp-content/uploads/2022/03/Screenshot-218-1.png
END:VEVENT
BEGIN:VEVENT
DTSTART;TZID=America/New_York:20220316T080000
DTEND;TZID=America/New_York:20220316T170000
DTSTAMP:20221005T195658
CREATED:20220316T135711Z
LAST-MODIFIED:20220316T135711Z
UID:89395-1647417600-1647450000@www.kidsburgh.org
SUMMARY:Dance & Be Fit
DESCRIPTION:Program description: Join Roland of Dance & Be Fit and get your body active during Earth Month! These movements are inclusive to all and will have you feeling great! \nLocation: Mellon Park North side in the green space across from the basketball courts near the shelter \nClick here to register: http://support.pittsburghparks.org/site/Calendar?id=101551&view=Detail \nAccessibility information: flat grade
URL:https://www.kidsburgh.org/ec/dance-be-fit/
LOCATION:Mellon Park North side in the green space across from the basketball courts near the shelter\, Pittsburgh\, PA\, 15222\, United States
CATEGORIES:Arts and Culture,Community
ATTACH;FMTTYPE=image/webp:https://www.kidsburgh.org/wp-content/uploads/2022/03/Earth-Month_Website-Event-Page-28.png.webp
END:VEVENT
END:VCALENDAR