BEGIN:VCALENDAR
VERSION:2.0
PRODID:-//Kidsburgh - ECPv6.0.1.1//NONSGML v1.0//EN
CALSCALE:GREGORIAN
METHOD:PUBLISH
X-WR-CALNAME:Kidsburgh
X-ORIGINAL-URL:https://www.kidsburgh.org
X-WR-CALDESC:Events for Kidsburgh
REFRESH-INTERVAL;VALUE=DURATION:PT1H
X-Robots-Tag:noindex
X-PUBLISHED-TTL:PT1H
BEGIN:VTIMEZONE
TZID:America/New_York
BEGIN:DAYLIGHT
TZOFFSETFROM:-0500
TZOFFSETTO:-0400
TZNAME:EDT
DTSTART:20220313T070000
END:DAYLIGHT
BEGIN:STANDARD
TZOFFSETFROM:-0400
TZOFFSETTO:-0500
TZNAME:EST
DTSTART:20221106T060000
END:STANDARD
END:VTIMEZONE
BEGIN:VEVENT
DTSTART;TZID=America/New_York:20221002T120000
DTEND;TZID=America/New_York:20221002T160000
DTSTAMP:20221005T194903
CREATED:20220913T015723Z
LAST-MODIFIED:20220913T015723Z
UID:95476-1664712000-1664726400@www.kidsburgh.org
SUMMARY:Chess Fest 2022
DESCRIPTION:In 2017\, former Pittsburgh City Councilmember Dan Gilman and former Allegheny County Councilmember Tom Baker declared October 1-8 Chess Week in the City of Pittsburgh and Allegheny County to honor Queens Gambit and the educational and social impact of chess in the community. Join us this year on Sunday\, October 2nd from 12-4pm for the first ever chess festival in Market Square! The event will include speed chess tournaments for chess enthusiasts\, a simul with an International Master\, opportunities for beginners and new players to learn the game\, engaging activities for early learners\, and special guest speakers.
URL:https://www.kidsburgh.org/ec/chess-fest-2022/
LOCATION:Market Square\, Downtown\, Pittsburgh\, PA\, 15222\, United States
CATEGORIES:Arts and Culture,Education,Community,Remake Learning
ATTACH;FMTTYPE=image/png:https://www.kidsburgh.org/wp-content/uploads/2022/09/Chess-Week-Logo-e1664308504113.png
ORGANIZER;CN="The%20Queen%27s%20Gambit%20Chess%20Institute":MAILTO:chess.tqg@gmail.com
END:VEVENT
END:VCALENDAR