BEGIN:VCALENDAR
VERSION:2.0
PRODID:-//Kidsburgh - ECPv6.0.1.1//NONSGML v1.0//EN
CALSCALE:GREGORIAN
METHOD:PUBLISH
X-WR-CALNAME:Kidsburgh
X-ORIGINAL-URL:https://www.kidsburgh.org
X-WR-CALDESC:Events for Kidsburgh
REFRESH-INTERVAL;VALUE=DURATION:PT1H
X-Robots-Tag:noindex
X-PUBLISHED-TTL:PT1H
BEGIN:VTIMEZONE
TZID:America/New_York
BEGIN:DAYLIGHT
TZOFFSETFROM:-0500
TZOFFSETTO:-0400
TZNAME:EDT
DTSTART:20220313T070000
END:DAYLIGHT
BEGIN:STANDARD
TZOFFSETFROM:-0400
TZOFFSETTO:-0500
TZNAME:EST
DTSTART:20221106T060000
END:STANDARD
END:VTIMEZONE
BEGIN:VEVENT
DTSTART;TZID=America/New_York:20220716T100000
DTEND;TZID=America/New_York:20220716T120000
DTSTAMP:20221005T200700
CREATED:20220620T142450Z
LAST-MODIFIED:20220620T142450Z
UID:93101-1657965600-1657972800@www.kidsburgh.org
SUMMARY:Woods Run Watershed Trash Pick-up
DESCRIPTION:Your Help is Needed! \nJoin us for our monthly trash pick-up at the Woods Run Watershed! Come prepared to pick up trash and learn about the Woods Run Watershed Taskforce! \nPlease meet at the corner of Leckey Ave and Brighton Road.
URL:https://www.kidsburgh.org/ec/woods-run-watershed-trash-pick-up/
LOCATION:leck\, Leckey Ave and Brighton Rd\, Pittsburgh\, PA\, 15212\, United States
CATEGORIES:Community
ATTACH;FMTTYPE=image/jpeg:https://www.kidsburgh.org/wp-content/uploads/2022/06/9e43a3dd-df7a-4667-bebd-85791f4fe189-1.jpeg
END:VEVENT
END:VCALENDAR