BEGIN:VCALENDAR
VERSION:2.0
PRODID:-//Kidsburgh - ECPv6.0.1.1//NONSGML v1.0//EN
CALSCALE:GREGORIAN
METHOD:PUBLISH
X-ORIGINAL-URL:https://www.kidsburgh.org
X-WR-CALDESC:Events for Kidsburgh
REFRESH-INTERVAL;VALUE=DURATION:PT1H
X-Robots-Tag:noindex
X-PUBLISHED-TTL:PT1H
BEGIN:VTIMEZONE
TZID:America/New_York
BEGIN:DAYLIGHT
TZOFFSETFROM:-0500
TZOFFSETTO:-0400
TZNAME:EDT
DTSTART:20220313T070000
END:DAYLIGHT
BEGIN:STANDARD
TZOFFSETFROM:-0400
TZOFFSETTO:-0500
TZNAME:EST
DTSTART:20221106T060000
END:STANDARD
END:VTIMEZONE
BEGIN:VEVENT
DTSTART;TZID=America/New_York:20220212T100000
DTEND;TZID=America/New_York:20220212T130000
DTSTAMP:20221005T200421
CREATED:20220211T024555Z
LAST-MODIFIED:20220211T024555Z
UID:87689-1644660000-1644670800@www.kidsburgh.org
SUMMARY:The Alloy School
DESCRIPTION:Through The Alloy School’s non-competitive environment\, youth\, adults\, and families of all experience levels can embrace the joy of dance movement while developing body awareness\, coordination\, and esteem. \nThe Alloy School Spring 2022 session spans 8-weeks of Saturdays at KST’s Alloy Studios from February 12 – April 2 with a public showcase and celebratory Let’s Move! Family Dance Party on April 9. Each Saturday from 10:00am to 1:00pm\, expert teaching artists guide six 50-minutes classes in KST’s two dance studios that cater to participants from toddlers to elders in an engaging atmosphere. \nEvery 8 week session is taught by professional artists and designed to teach you new moves and give you insight into the cultural roots of these different styles! The whole family can enjoy The Alloy School’s diverse range of classes from West African to Jazz Ballet. Classes are conducted with a casual atmosphere with no formal dress code. Bring your whole self–we can’t wait to welcome you to The Alloy School community! \nRegistration for the full 8-week session is encouraged\, though participants are also welcome to drop in for classes throughout. Tickets start at $12.50.\n \nCreative Play: Stars and Stories  (ages 6 & under) | 10:00am – 10:50am\nJazz Ballet  (ages 7-12) | 10:00am – 10:50am\nHip Hop  (all ages) | 11:00am – 11:50am\nWest African  (all ages)  | 11:00am – 11:50am\nCapoeira  (ages 12+)| 12:00pm – 12:50pm \nDanceFit  (ages 18+) | 12:00pm – 12:50pm
URL:https://www.kidsburgh.org/ec/the-alloy-school/2022-02-12/
LOCATION:KST’s Alloy Studios\, 5530 Penn Ave.\, Pittsburgh\, PA\, 15206\, United States
CATEGORIES:Arts and Culture,Health and Wellness,Community
ATTACH;FMTTYPE=image/png:https://www.kidsburgh.org/wp-content/uploads/2022/01/Alloy-School-WS22.png
END:VEVENT
END:VCALENDAR