BEGIN:VCALENDAR
VERSION:2.0
PRODID:-//Kidsburgh - ECPv6.0.1.1//NONSGML v1.0//EN
CALSCALE:GREGORIAN
METHOD:PUBLISH
X-ORIGINAL-URL:https://www.kidsburgh.org
X-WR-CALDESC:Events for Kidsburgh
REFRESH-INTERVAL;VALUE=DURATION:PT1H
X-Robots-Tag:noindex
X-PUBLISHED-TTL:PT1H
BEGIN:VTIMEZONE
TZID:America/New_York
BEGIN:DAYLIGHT
TZOFFSETFROM:-0500
TZOFFSETTO:-0400
TZNAME:EDT
DTSTART:20190310T070000
END:DAYLIGHT
BEGIN:STANDARD
TZOFFSETFROM:-0400
TZOFFSETTO:-0500
TZNAME:EST
DTSTART:20191103T060000
END:STANDARD
END:VTIMEZONE
BEGIN:VEVENT
DTSTART;TZID=America/New_York:20190824T080000
DTEND;TZID=America/New_York:20190824T170000
DTSTAMP:20221005T195510
CREATED:20190814T192751Z
LAST-MODIFIED:20190814T193548Z
UID:54051-1566633600-1566666000@www.kidsburgh.org
SUMMARY:Storytime Live! with Pinkalicious and Curious George
DESCRIPTION:Kiddie Academy of North Pittsburgh a local educational childcare provider\, invites Pittsburgh-area children and their families to Storytime LIVE!\, a free community reading event on Saturday\, August 24. During the event\, attendees will have the opportunity to enjoy a story reading and classroom visit with Curious George and Pinkalicious®. Parents are encouraged to bring their cameras to capture the excitement. \nStorytime LIVE! is free and open to everyone: current students\, new friends interested in learning more about Kiddie Academy of North Pittsburgh\, and anyone looking to share a special experience with their child! \nKiddie Academy of North Pittsburgh is located at 111 Josephs Lane in Pittsburgh. Register online at www.kastorytime.com.
URL:https://www.kidsburgh.org/ec/storytime-live-with-pinkalicious-and-curious-george/
LOCATION:Kiddie Academy North\, 111 Josephs Lane\, Pittsburgh\, PA\, 15237\, United States
CATEGORIES:Arts and Culture,Education
GEO:40.5243087;-80.0725702
X-APPLE-STRUCTURED-LOCATION;VALUE=URI;X-ADDRESS=Kiddie Academy North 111 Josephs Lane Pittsburgh PA 15237 United States;X-APPLE-RADIUS=500;X-TITLE=111 Josephs Lane:geo:-80.0725702,40.5243087
END:VEVENT
END:VCALENDAR