BEGIN:VCALENDAR
VERSION:2.0
PRODID:-//Kidsburgh - ECPv6.0.1.1//NONSGML v1.0//EN
CALSCALE:GREGORIAN
METHOD:PUBLISH
X-ORIGINAL-URL:https://www.kidsburgh.org
X-WR-CALDESC:Events for Kidsburgh
REFRESH-INTERVAL;VALUE=DURATION:PT1H
X-Robots-Tag:noindex
X-PUBLISHED-TTL:PT1H
BEGIN:VTIMEZONE
TZID:America/New_York
BEGIN:DAYLIGHT
TZOFFSETFROM:-0500
TZOFFSETTO:-0400
TZNAME:EDT
DTSTART:20190310T070000
END:DAYLIGHT
BEGIN:STANDARD
TZOFFSETFROM:-0400
TZOFFSETTO:-0500
TZNAME:EST
DTSTART:20191103T060000
END:STANDARD
END:VTIMEZONE
BEGIN:VEVENT
DTSTART;TZID=America/New_York:20191102T193000
DTEND;TZID=America/New_York:20191102T213000
DTSTAMP:20221005T200030
CREATED:20191015T163215Z
LAST-MODIFIED:20191015T163215Z
UID:55569-1572723000-1572730200@www.kidsburgh.org
SUMMARY:The Disney Songbook on Theatre Organ
DESCRIPTION:A great event for kids:  Disney music and Disney cartoons!  Theatre organist Dave Calendine will perform the Disney Songbook from stage and screen on the PATOS 3 manual Wurlitzer Theatre Pipe Organ\, plus accompany Disney silent short cartoons.  Songs everyone knows and loves! \nStudents admitted free!  Dave is an organist for the NHL’s Detroit Red Wings and also serves as the president of the American Theatre Organ Society.  Dave knows how to please an audience\, and you will come away smiling! \nThe event will take place at Keystone Oaks Auditorium in Dormont on Saturday\, November 2 at 7:30PM.  Plentiful free parking off McNeilly Rd. \n  \n 
URL:https://www.kidsburgh.org/ec/the-disney-songbook-on-theatre-organ/
LOCATION:Keystone Oaks Auditorium\, 1000 Kelton Ave.\, Pittsburgh\, PA\, 15216\, United States
CATEGORIES:Arts and Culture
ATTACH;FMTTYPE=image/jpeg:https://www.kidsburgh.org/wp-content/uploads/2019/10/Calendine4-e1571765015544.jpg
ORGANIZER;CN="Pittsburgh%20Area%20Theatre%20Organ%20Society":MAILTO:info@pittsburghtheatreorgan.com
GEO:40.387434;-80.031758
X-APPLE-STRUCTURED-LOCATION;VALUE=URI;X-ADDRESS=Keystone Oaks Auditorium 1000 Kelton Ave. Pittsburgh PA 15216 United States;X-APPLE-RADIUS=500;X-TITLE=1000 Kelton Ave.:geo:-80.031758,40.387434
END:VEVENT
END:VCALENDAR