BEGIN:VCALENDAR
VERSION:2.0
PRODID:-//Kidsburgh - ECPv6.0.1.1//NONSGML v1.0//EN
CALSCALE:GREGORIAN
METHOD:PUBLISH
X-ORIGINAL-URL:https://www.kidsburgh.org
X-WR-CALDESC:Events for Kidsburgh
REFRESH-INTERVAL;VALUE=DURATION:PT1H
X-Robots-Tag:noindex
X-PUBLISHED-TTL:PT1H
BEGIN:VTIMEZONE
TZID:America/New_York
BEGIN:DAYLIGHT
TZOFFSETFROM:-0500
TZOFFSETTO:-0400
TZNAME:EDT
DTSTART:20200308T070000
END:DAYLIGHT
BEGIN:STANDARD
TZOFFSETFROM:-0400
TZOFFSETTO:-0500
TZNAME:EST
DTSTART:20201101T060000
END:STANDARD
END:VTIMEZONE
BEGIN:VEVENT
DTSTART;TZID=America/New_York:20200318T183000
DTEND;TZID=America/New_York:20200318T200000
DTSTAMP:20221005T194612
CREATED:20200211T223710Z
LAST-MODIFIED:20200211T223710Z
UID:60617-1584556200-1584561600@www.kidsburgh.org
SUMMARY:Author/Illustrator Lindsay Barrett George Workshop
DESCRIPTION:Children’s author and illustrator Lindsay Barrett George will facilitate a free workshop focusing on family literacy and illustration for preschool-aged children and their parents/caretakers at the Greensburg Hempfield Public Library. This project\, funded in part by a grant from the Pitt Year of Creativity\, seeks to improve early literacy by increasing interaction between young children and their caretakers while showing the benefits of reading\, writing\, and creating with children on a daily basis. Wendy Hardy\, EdD\, associate professor of early childhood education at the University of Pittsburgh at Greensburg\, is the organizer of this event.
URL:https://www.kidsburgh.org/ec/author-illustrator-lindsay-barrett-george-workshop/
LOCATION:Greensburg Hempfield Public Library\, 237 S Pennsylvania Ave\, Greensburg\, 15601\, United States
CATEGORIES:Arts and Culture,Education
ATTACH;FMTTYPE=image/jpeg:https://www.kidsburgh.org/wp-content/uploads/2020/02/Lindsay-Barrett-George2.jpg
ORGANIZER;CN="University%20of%20Pittsburgh%20at%20Greensburg":MAILTO:wlh17@pitt.edu
GEO:40.3003862;-79.5443184
X-APPLE-STRUCTURED-LOCATION;VALUE=URI;X-ADDRESS=Greensburg Hempfield Public Library 237 S Pennsylvania Ave Greensburg 15601 United States;X-APPLE-RADIUS=500;X-TITLE=237 S Pennsylvania Ave:geo:-79.5443184,40.3003862
END:VEVENT
END:VCALENDAR