BEGIN:VCALENDAR
VERSION:2.0
PRODID:-//Kidsburgh - ECPv6.0.1.1//NONSGML v1.0//EN
CALSCALE:GREGORIAN
METHOD:PUBLISH
X-ORIGINAL-URL:https://www.kidsburgh.org
X-WR-CALDESC:Events for Kidsburgh
REFRESH-INTERVAL;VALUE=DURATION:PT1H
X-Robots-Tag:noindex
X-PUBLISHED-TTL:PT1H
BEGIN:VTIMEZONE
TZID:America/New_York
BEGIN:DAYLIGHT
TZOFFSETFROM:-0500
TZOFFSETTO:-0400
TZNAME:EDT
DTSTART:20220313T070000
END:DAYLIGHT
BEGIN:STANDARD
TZOFFSETFROM:-0400
TZOFFSETTO:-0500
TZNAME:EST
DTSTART:20221106T060000
END:STANDARD
END:VTIMEZONE
BEGIN:VEVENT
DTSTART;TZID=America/New_York:20220514T100000
DTEND;TZID=America/New_York:20220514T160000
DTSTAMP:20221005T201919
CREATED:20220426T132537Z
LAST-MODIFIED:20220426T132537Z
UID:90916-1652522400-1652544000@www.kidsburgh.org
SUMMARY:Greater Pittsburgh Festival of Books
DESCRIPTION:Greater Pittsburgh Festival of Books [Arts|Maker] \nSat\, May 14\, 10:00am-4:00pm \nAges: All Ages \nHosted by: Greater Pittsburgh Festival of Books \nExplore what it takes to make a book by using antique letterpresses\, decorate cartoneras\, and work with Braille machines to better understand readers with visual impairments. \nhttps://remakelearningdays.org/event/greater-pittsburgh-festival-of-books/# 
URL:https://www.kidsburgh.org/ec/greater-pittsburgh-festival-of-books/
LOCATION:Greater Pittsburgh Festival of Books\, East Liberty Venues\, Pittsburgh\, PA\, 15222\, United States
CATEGORIES:Education,Community,Remake Learning
ATTACH;FMTTYPE=image/jpeg:https://www.kidsburgh.org/wp-content/uploads/2022/04/05-14-2022_pa-southwestern_lauriepittsburghbookfestival-org.jpeg
END:VEVENT
END:VCALENDAR