BEGIN:VCALENDAR
VERSION:2.0
PRODID:-//Kidsburgh - ECPv6.0.1.1//NONSGML v1.0//EN
CALSCALE:GREGORIAN
METHOD:PUBLISH
X-ORIGINAL-URL:https://www.kidsburgh.org
X-WR-CALDESC:Events for Kidsburgh
REFRESH-INTERVAL;VALUE=DURATION:PT1H
X-Robots-Tag:noindex
X-PUBLISHED-TTL:PT1H
BEGIN:VTIMEZONE
TZID:America/New_York
BEGIN:DAYLIGHT
TZOFFSETFROM:-0500
TZOFFSETTO:-0400
TZNAME:EDT
DTSTART:20220313T070000
END:DAYLIGHT
BEGIN:STANDARD
TZOFFSETFROM:-0400
TZOFFSETTO:-0500
TZNAME:EST
DTSTART:20221106T060000
END:STANDARD
END:VTIMEZONE
BEGIN:VEVENT
DTSTART;TZID=America/New_York:20220430T193000
DTEND;TZID=America/New_York:20220430T213000
DTSTAMP:20221005T201931
CREATED:20220420T074949Z
LAST-MODIFIED:20220420T074949Z
UID:90245-1651347000-1651354200@www.kidsburgh.org
SUMMARY:Pittsburgh Concert Chorale’s 37 Years of Favorites
DESCRIPTION:Thirty-seven years of audience favorites! Help the Pittsburgh Concert Chorale celebrate its anniversary and revel in a program packed with past hits that YOU helped choose! \nGeneral Admission $20\, Students $8\, Children Free Under 11.
URL:https://www.kidsburgh.org/ec/pittsburgh-concert-chorales-37-years-of-favorites/2022-04-30/
LOCATION:Fox Chapel Presbyterian\, 384 Fox Chapel Rd\,\, Pittsburgh\, PA\, 15238\, United States
CATEGORIES:Arts and Culture,Community
ATTACH;FMTTYPE=image/jpeg:https://www.kidsburgh.org/wp-content/uploads/2022/04/PCC-Pops-Apr-May-2022.jpg
ORGANIZER;CN="Pittsburgh%20Concert%20Chorale":MAILTO:office@pccsing.org
END:VEVENT
END:VCALENDAR