BEGIN:VCALENDAR
VERSION:2.0
PRODID:-//Kidsburgh - ECPv6.0.1.1//NONSGML v1.0//EN
CALSCALE:GREGORIAN
METHOD:PUBLISH
X-ORIGINAL-URL:https://www.kidsburgh.org
X-WR-CALDESC:Events for Kidsburgh
REFRESH-INTERVAL;VALUE=DURATION:PT1H
X-Robots-Tag:noindex
X-PUBLISHED-TTL:PT1H
BEGIN:VTIMEZONE
TZID:America/New_York
BEGIN:DAYLIGHT
TZOFFSETFROM:-0500
TZOFFSETTO:-0400
TZNAME:EDT
DTSTART:20220313T070000
END:DAYLIGHT
BEGIN:STANDARD
TZOFFSETFROM:-0400
TZOFFSETTO:-0500
TZNAME:EST
DTSTART:20221106T060000
END:STANDARD
END:VTIMEZONE
BEGIN:VEVENT
DTSTART;TZID=America/New_York:20220521T110000
DTEND;TZID=America/New_York:20220521T140000
DTSTAMP:20221005T202236
CREATED:20220426T225959Z
LAST-MODIFIED:20220426T225959Z
UID:91166-1653130800-1653141600@www.kidsburgh.org
SUMMARY:Family Fun Carnival
DESCRIPTION:  \n  \nHave fun with your family while getting your face painted\, enjoying a magic show\, eating\, playing games\, and more! \n 
URL:https://www.kidsburgh.org/ec/family-fun-carnival/
LOCATION:Focus on Renewal Sto-Rox Neighborhood Corporation\, 420 Chartiers Ave\, McKees Rocks\, PA\, United States
CATEGORIES:Arts and Culture,Education,Community
ATTACH;FMTTYPE=image/jpeg:https://www.kidsburgh.org/wp-content/uploads/2022/04/05-17-2022_pa-southwestern_danaptc.jpg
END:VEVENT
END:VCALENDAR