BEGIN:VCALENDAR
VERSION:2.0
PRODID:-//Kidsburgh - ECPv6.0.1.1//NONSGML v1.0//EN
CALSCALE:GREGORIAN
METHOD:PUBLISH
X-ORIGINAL-URL:https://www.kidsburgh.org
X-WR-CALDESC:Events for Kidsburgh
REFRESH-INTERVAL;VALUE=DURATION:PT1H
X-Robots-Tag:noindex
X-PUBLISHED-TTL:PT1H
BEGIN:VTIMEZONE
TZID:America/New_York
BEGIN:DAYLIGHT
TZOFFSETFROM:-0500
TZOFFSETTO:-0400
TZNAME:EDT
DTSTART:20220313T070000
END:DAYLIGHT
BEGIN:STANDARD
TZOFFSETFROM:-0400
TZOFFSETTO:-0500
TZNAME:EST
DTSTART:20221106T060000
END:STANDARD
END:VTIMEZONE
BEGIN:VEVENT
DTSTART;TZID=America/New_York:20220326T100000
DTEND;TZID=America/New_York:20220326T140000
DTSTAMP:20221005T200311
CREATED:20220308T192032Z
LAST-MODIFIED:20220308T192032Z
UID:88998-1648288800-1648303200@www.kidsburgh.org
SUMMARY:Empower Her 2022\, Boys & Girls Clubs of Western Pennsylvania
DESCRIPTION:Girls ages 7-17 are invited to Empower Her\, an annual event hosted by the Boys & Girls Clubs of Western Pennsylvania. This year\, Empower Her returns as an in-person day of activities and speakers designed to encourage girls to become leaders in their communities. Caring female role models will encourage body positivity\, personal growth and confidence. Inspired by the International Women’s Day movement and Women’s History Month\, Empower Her’s mission is to motivate the next generation of women to advocate and take action around female empowerment. Registration is free.
URL:https://www.kidsburgh.org/ec/empower-her-2022-boys-girls-clubs-of-western-pennsylvania/
LOCATION:Estelle S. Campbell Boys & Girls Clubhouse\, Pittsburgh\, PA\, 15222\, United States
CATEGORIES:Education,Community
ATTACH;FMTTYPE=image/jpeg:https://www.kidsburgh.org/wp-content/uploads/2022/02/Photo-courtesy-of-Empower-Her.jpeg
ORGANIZER;CN="Boys%20%26amp%3B%20Girls%20Clubs%20of%20Western%20Pennsylvania":MAILTO:contact@bgcwpa.org
END:VEVENT
END:VCALENDAR