BEGIN:VCALENDAR
VERSION:2.0
PRODID:-//Kidsburgh - ECPv6.0.1.1//NONSGML v1.0//EN
CALSCALE:GREGORIAN
METHOD:PUBLISH
X-WR-CALNAME:Kidsburgh
X-ORIGINAL-URL:https://www.kidsburgh.org
X-WR-CALDESC:Events for Kidsburgh
REFRESH-INTERVAL;VALUE=DURATION:PT1H
X-Robots-Tag:noindex
X-PUBLISHED-TTL:PT1H
BEGIN:VTIMEZONE
TZID:America/New_York
BEGIN:DAYLIGHT
TZOFFSETFROM:-0500
TZOFFSETTO:-0400
TZNAME:EDT
DTSTART:20220313T070000
END:DAYLIGHT
BEGIN:STANDARD
TZOFFSETFROM:-0400
TZOFFSETTO:-0500
TZNAME:EST
DTSTART:20221106T060000
END:STANDARD
END:VTIMEZONE
BEGIN:VEVENT
DTSTART;TZID=America/New_York:20221001T100000
DTEND;TZID=America/New_York:20221001T160000
DTSTAMP:20221005T201335
CREATED:20220906T121851Z
LAST-MODIFIED:20220906T121851Z
UID:95185-1664618400-1664640000@www.kidsburgh.org
SUMMARY:DOORS OPEN Pittsburgh: Downtown Neighborhood Event
DESCRIPTION:DOORS OPEN Pittsburgh invites you to #BeNebby with us on Saturday\, October 1. \nGo behind the scenes\, get unique access or just savor the opportunity to explore a large collection of buildings – theaters\, government offices\, artist spaces\, hotels\, commercial-residential and more! \nExperience the best Pittsburgh has to offer – see amazing views\, enter private spaces that are usually inaccessible to the public\, and discover new spaces in plain view that you may not be familiar with. \nDOORS OPEN Pittsburgh: Downtown 2022 is presented in an open-house format – you decide which building you want to visit and in what order.\nOnce inside you will be presented with the chance to experience notable features of the building – panoramic views\, murals\, stained glass\, vaults\, revitalized spaces and so much more! \nAs a nonprofit organization\, we strive to generate appreciation for our architectural treasures\, the arts and the movers and shakers that all come together to give Pittsburgh its sense of place! \nTickets go on sale Monday\, September 5. \nFor general event information and to purchase tickets: www.DoorsOpenPgh.org
URL:https://www.kidsburgh.org/ec/doors-open-pittsburgh-downtown-neighborhood-event/
LOCATION:EQT Plaza\, 625 Liberty Ave\, Pittsburgh\, PA\, 15222\, United States
CATEGORIES:Science and Technology,Education,Community
ATTACH;FMTTYPE=image/jpeg:https://www.kidsburgh.org/wp-content/uploads/2022/09/Downtown-Neighborhood-Event-with-BeNebby-Logo.jpg
END:VEVENT
END:VCALENDAR