BEGIN:VCALENDAR
VERSION:2.0
PRODID:-//Kidsburgh - ECPv6.0.1.1//NONSGML v1.0//EN
CALSCALE:GREGORIAN
METHOD:PUBLISH
X-ORIGINAL-URL:https://www.kidsburgh.org
X-WR-CALDESC:Events for Kidsburgh
REFRESH-INTERVAL;VALUE=DURATION:PT1H
X-Robots-Tag:noindex
X-PUBLISHED-TTL:PT1H
BEGIN:VTIMEZONE
TZID:America/New_York
BEGIN:DAYLIGHT
TZOFFSETFROM:-0500
TZOFFSETTO:-0400
TZNAME:EDT
DTSTART:20190310T070000
END:DAYLIGHT
BEGIN:STANDARD
TZOFFSETFROM:-0400
TZOFFSETTO:-0500
TZNAME:EST
DTSTART:20191103T060000
END:STANDARD
END:VTIMEZONE
BEGIN:VEVENT
DTSTART;TZID=America/New_York:20190729T090000
DTEND;TZID=America/New_York:20190729T160000
DTSTAMP:20221005T201138
CREATED:20190715T205927Z
LAST-MODIFIED:20190715T205927Z
UID:53501-1564390800-1564416000@www.kidsburgh.org
SUMMARY:Etna Christian Day Camp
DESCRIPTION:Etna Christian Day Camp – “Exploring God and His World” through bible stories\, songs\, science\, robotics\, engineering\, art\, and fun! For students in kindergarten through 6th grade. Lunch will be served each day. The fee for the program is $10 for the week. Scholarships are available. \nCamp runs July 27-Aug. 2. \nOn Friday\, Aug. 2\, each participant’s entire family is invited to a free dinner and an opportunity to see the week’s accomplishments. For more information or to register\, please call 412-657-2652 or 412-657-2653. Or visit our web site at www.elcetna.org.
URL:https://www.kidsburgh.org/ec/etna-christian-day-camp/
LOCATION:Emmanuel Lutheran Church\, Grant and Highland Avenues\, Pittsburgh\, PA\, 15223\, United States
CATEGORIES:Community
ORGANIZER;CN="Emmanuel%20Lutheran%20Church":MAILTO:pastor@elcetna.org
GEO:40.505333;-79.9500153
X-APPLE-STRUCTURED-LOCATION;VALUE=URI;X-ADDRESS=Emmanuel Lutheran Church Grant and Highland Avenues Pittsburgh PA 15223 United States;X-APPLE-RADIUS=500;X-TITLE=Grant and Highland Avenues:geo:-79.9500153,40.505333
END:VEVENT
END:VCALENDAR