BEGIN:VCALENDAR
VERSION:2.0
PRODID:-//Kidsburgh - ECPv6.0.1.1//NONSGML v1.0//EN
CALSCALE:GREGORIAN
METHOD:PUBLISH
X-WR-CALNAME:Kidsburgh
X-ORIGINAL-URL:https://www.kidsburgh.org
X-WR-CALDESC:Events for Kidsburgh
REFRESH-INTERVAL;VALUE=DURATION:PT1H
X-Robots-Tag:noindex
X-PUBLISHED-TTL:PT1H
BEGIN:VTIMEZONE
TZID:America/New_York
BEGIN:DAYLIGHT
TZOFFSETFROM:-0500
TZOFFSETTO:-0400
TZNAME:EDT
DTSTART:20220313T070000
END:DAYLIGHT
BEGIN:STANDARD
TZOFFSETFROM:-0400
TZOFFSETTO:-0500
TZNAME:EST
DTSTART:20221106T060000
END:STANDARD
END:VTIMEZONE
BEGIN:VEVENT
DTSTART;TZID=America/New_York:20220612T160000
DTEND;TZID=America/New_York:20220612T210000
DTSTAMP:20221005T201454
CREATED:20220420T081310Z
LAST-MODIFIED:20220420T081310Z
UID:90343-1655049600-1655067600@www.kidsburgh.org
SUMMARY:PizzaFest – A Slice of Delish
DESCRIPTION:Pizza Lovers Rejoice!  A saucy celebration of everything pizza is happening on Sunday\, June 12 at East End Brewery\, 147 Julius St\, Pittsburgh\, PA 15206. \nPizzaFest – A Slice of Delish is serving up the works from seven of Pittsburgh’s best artisan pizza chefs.  In addition to the best slices in town\, guests will also enjoy live music and food demos from vendors perfectly matched with pizza. Any way you slice it\, PizzaFest is going to be a deliciously good time! \nThe event features two tickets entry times from 4-6 pm or 7-9 pm. \nTickets for the 21+ event are $35 and available at https://cutt.ly/oFW6eQ3.  Guests who wish to attend both sessions must purchase tickets for both entry times.  PizzaFest – A Slice of Delish! is presented by GoodTaste! Pittsburgh\, the region’s premiere producer of culinary shows.
URL:https://www.kidsburgh.org/ec/pizzafest-a-slice-of-delish/
LOCATION:East End Brewing Company\, 147 Juluis St\, Pittsburgh\, PA
CATEGORIES:Community
ATTACH;FMTTYPE=image/jpeg:https://www.kidsburgh.org/wp-content/uploads/2022/04/LOGO-copy.jpeg
END:VEVENT
END:VCALENDAR