BEGIN:VCALENDAR
VERSION:2.0
PRODID:-//Kidsburgh - ECPv6.0.1.1//NONSGML v1.0//EN
CALSCALE:GREGORIAN
METHOD:PUBLISH
X-ORIGINAL-URL:https://www.kidsburgh.org
X-WR-CALDESC:Events for Kidsburgh
REFRESH-INTERVAL;VALUE=DURATION:PT1H
X-Robots-Tag:noindex
X-PUBLISHED-TTL:PT1H
BEGIN:VTIMEZONE
TZID:America/New_York
BEGIN:DAYLIGHT
TZOFFSETFROM:-0500
TZOFFSETTO:-0400
TZNAME:EDT
DTSTART:20200308T070000
END:DAYLIGHT
BEGIN:STANDARD
TZOFFSETFROM:-0400
TZOFFSETTO:-0500
TZNAME:EST
DTSTART:20201101T060000
END:STANDARD
END:VTIMEZONE
BEGIN:VEVENT
DTSTART;TZID=America/New_York:20200620T110000
DTEND;TZID=America/New_York:20200620T130000
DTSTAMP:20221005T194748
CREATED:20200609T142517Z
LAST-MODIFIED:20200609T142517Z
UID:65748-1592650800-1592658000@www.kidsburgh.org
SUMMARY:Waterside NamastHay Goat Yoga
DESCRIPTION:Have U Herd Goatscaping\, Jen’s Yoga Zen\, and Duke & Lola’s Cafe are pleased to invite you to our 2020 Waterside NamastHay classes – in Mercer\, PA! \nWhat is NamastHay Goat Yoga\, you say??? We will be outdoors in a flat\, grassy area with pygmy and full-size goats mingling amongst us as we practice. This is a body-positive\, lighthearted yoga class on the shore of beautiful Lake Latonka. All levels of yoga experience (even none!) are welcome. Please read the important notice on the ticketing website regarding COVID19 pandemic precautions. \nPlease dress for the weather and bring your outdoor yoga mat or a towel on which to practice. Duke & Lola’s will be providing complimentary Southern iced tea and infused cold water to all participants. NamastHay Goat Yoga of Pittsburgh will provide complimentary natural insect repellent and hand sanitizer. \n$25 per person\, and if you’d like to support your local food bank\, please bring a non-perishable food item to donate to the Community Food Warehouse of Mercer Co. No glass containers or expired food\, please. \nWe will also have our NamastHay Goat Yoga merchandise (tank tops\, t-shirts\, hats\, headbands\, decals\, etc.) available for purchase! For merch\, cash\, check\, or Venmo only\, please. \nParticipants will have time after class to pet\, feed\, and take photos with the goats. Stay afterwards and check out the island vibes and delicious offerings at Duke & Lola’s. \nReserve your ticket in advance; space is limited. Kids 4-10 years old are free with a paid adult ticket; NamastHay is probably not a good fit for younger kiddos. (Up to two children are allowed per paid adult.) \nNamastHay is practiced outside in an open field.
URL:https://www.kidsburgh.org/ec/waterside-namasthay-goat-yoga/
LOCATION:Duke&amp;Lola’sCafe\, 422 Latonka Drive\, Mercer\, PA\, 16137\, United States
CATEGORIES:Health and Wellness,Community
ATTACH;FMTTYPE=image/jpeg:https://www.kidsburgh.org/wp-content/uploads/2020/06/Waterside-NamastHay-class-view.jpg
ORGANIZER;CN="NamasthayGoatYogaofPittsburgh":MAILTO:yogajen25@gmail.com
GEO:41.2911256;-80.1820703
X-APPLE-STRUCTURED-LOCATION;VALUE=URI;X-ADDRESS=Duke&amp;Lola’sCafe 422 Latonka Drive Mercer PA 16137 United States;X-APPLE-RADIUS=500;X-TITLE=422 Latonka Drive:geo:-80.1820703,41.2911256
END:VEVENT
END:VCALENDAR