BEGIN:VCALENDAR
VERSION:2.0
PRODID:-//Kidsburgh - ECPv6.0.1.1//NONSGML v1.0//EN
CALSCALE:GREGORIAN
METHOD:PUBLISH
X-ORIGINAL-URL:https://www.kidsburgh.org
X-WR-CALDESC:Events for Kidsburgh
REFRESH-INTERVAL;VALUE=DURATION:PT1H
X-Robots-Tag:noindex
X-PUBLISHED-TTL:PT1H
BEGIN:VTIMEZONE
TZID:America/New_York
BEGIN:DAYLIGHT
TZOFFSETFROM:-0500
TZOFFSETTO:-0400
TZNAME:EDT
DTSTART:20200308T070000
END:DAYLIGHT
BEGIN:STANDARD
TZOFFSETFROM:-0400
TZOFFSETTO:-0500
TZNAME:EST
DTSTART:20201101T060000
END:STANDARD
BEGIN:DAYLIGHT
TZOFFSETFROM:-0500
TZOFFSETTO:-0400
TZNAME:EDT
DTSTART:20210314T070000
END:DAYLIGHT
BEGIN:STANDARD
TZOFFSETFROM:-0400
TZOFFSETTO:-0500
TZNAME:EST
DTSTART:20211107T060000
END:STANDARD
BEGIN:DAYLIGHT
TZOFFSETFROM:-0500
TZOFFSETTO:-0400
TZNAME:EDT
DTSTART:20220313T070000
END:DAYLIGHT
BEGIN:STANDARD
TZOFFSETFROM:-0400
TZOFFSETTO:-0500
TZNAME:EST
DTSTART:20221106T060000
END:STANDARD
END:VTIMEZONE
BEGIN:VEVENT
DTSTART;TZID=America/New_York:20220603T080000
DTEND;TZID=America/New_York:20220612T170000
DTSTAMP:20221005T200538
CREATED:20220531T154144Z
LAST-MODIFIED:20220531T154144Z
UID:92506-1654243200-1655053200@www.kidsburgh.org
SUMMARY:Three Rivers Arts Festival
DESCRIPTION:10 DAYS OF FREE\n\n\nART + MUSIC\n\n\nJUNE 3-12\, 2022
URL:https://www.kidsburgh.org/ec/three-rivers-arts-festival/
LOCATION:Downtown
CATEGORIES:Arts and Culture,Community
ATTACH;FMTTYPE=image/jpeg:https://www.kidsburgh.org/wp-content/uploads/2022/05/pj0gmjc31nqmcuvz0mlred8ml3f4.jpg
ORGANIZER;CN="Pittsburgh%20Cultural%20Trust":MAILTO:education@trustarts.org
END:VEVENT
BEGIN:VEVENT
DTSTART;TZID=America/New_York:20200702T080000
DTEND;TZID=America/New_York:20200702T170000
DTSTAMP:20221005T200538
CREATED:20200702T214026Z
LAST-MODIFIED:20200702T214026Z
UID:67335-1593676800-1593709200@www.kidsburgh.org
SUMMARY:Walk the Burgh Black & Ghost Tour
DESCRIPTION:Experience the Best of Pittsburgh’s Downtown while being spooked! Get to see outstanding historic landmarks (often beautifully lit up) during the quiet evening hours and learn which spirits lurk in them. Ready to get spooky and scared by some obscure ghost stories? If so\, click below to see which dates are available for this chilling experience! \nPRICE: Adults $20\, Children $10 (age 6-13)\nTOUR TIMES: Fridays at 6.30 p.m.\nDURATION: 90 mins\nWALKING DISTANCE: approx. 1.5 miles of walking\n​TOUR START: 1049 Penn Ave\, Downtown Pittsburgh (Convention Center)\nTOUR END: at tour starting location \nBook in advance online: https://www.walktheburgh.com/
URL:https://www.kidsburgh.org/ec/walk-the-burgh-black-ghost-tour/
LOCATION:Downtown
ORGANIZER;CN="Walk%20the%20Burgh":MAILTO:hello@walktheburgh.com
END:VEVENT
BEGIN:VEVENT
DTSTART;TZID=America/New_York:20200702T080000
DTEND;TZID=America/New_York:20200702T170000
DTSTAMP:20221005T200538
CREATED:20200702T214026Z
LAST-MODIFIED:20200702T214026Z
UID:74201-1593676800-1593709200@www.kidsburgh.org
SUMMARY:Walk the Burgh Black & Ghost Tour
DESCRIPTION:Experience the Best of Pittsburgh’s Downtown while being spooked! Get to see outstanding historic landmarks (often beautifully lit up) during the quiet evening hours and learn which spirits lurk in them. Ready to get spooky and scared by some obscure ghost stories? If so\, click below to see which dates are available for this chilling experience! \nPRICE: Adults $20\, Children $10 (age 6-13)\nTOUR TIMES: Fridays at 6.30 p.m.\nDURATION: 90 mins\nWALKING DISTANCE: approx. 1.5 miles of walking\n​TOUR START: 1049 Penn Ave\, Downtown Pittsburgh (Convention Center)\nTOUR END: at tour starting location \nBook in advance online: https://www.walktheburgh.com/
URL:https://www.kidsburgh.org/ec/walk-the-burgh-black-ghost-tour-2/
LOCATION:Downtown
ORGANIZER;CN="Walk%20the%20Burgh":MAILTO:hello@walktheburgh.com
END:VEVENT
END:VCALENDAR