BEGIN:VCALENDAR
VERSION:2.0
PRODID:-//Kidsburgh - ECPv6.0.1.1//NONSGML v1.0//EN
CALSCALE:GREGORIAN
METHOD:PUBLISH
X-ORIGINAL-URL:https://www.kidsburgh.org
X-WR-CALDESC:Events for Kidsburgh
REFRESH-INTERVAL;VALUE=DURATION:PT1H
X-Robots-Tag:noindex
X-PUBLISHED-TTL:PT1H
BEGIN:VTIMEZONE
TZID:America/New_York
BEGIN:DAYLIGHT
TZOFFSETFROM:-0500
TZOFFSETTO:-0400
TZNAME:EDT
DTSTART:20210314T070000
END:DAYLIGHT
BEGIN:STANDARD
TZOFFSETFROM:-0400
TZOFFSETTO:-0500
TZNAME:EST
DTSTART:20211107T060000
END:STANDARD
END:VTIMEZONE
BEGIN:VEVENT
DTSTART;TZID=America/New_York:20210516T130000
DTEND;TZID=America/New_York:20210516T160000
DTSTAMP:20221005T194617
CREATED:20210513T214725Z
LAST-MODIFIED:20210513T214725Z
UID:78849-1621170000-1621180800@www.kidsburgh.org
SUMMARY:Colonial Friendship Day
DESCRIPTION:The Depreciation Lands Museum celebrates Friendship Day with free admission on May 16. The pioneer village will be populated with costumed interpreters who will demonstrate daily life in the 18th century. Browse through the site’s collection of wares sold by Colonial craftspeople. Can’t make it this weekend? The museum is open every Sunday through October.
URL:https://www.kidsburgh.org/ec/colonial-friendship-day/
LOCATION:Depreciation Lands Museum\, 5130 N. Pioneer Road\, Gibsonia\, PA\, 15044
ORGANIZER;CN="Depreciation%20Lands%20Museum":MAILTO:mailto:DLM@dlmuseum.org
END:VEVENT
BEGIN:VEVENT
DTSTART;TZID=America/New_York:20210516T130000
DTEND;TZID=America/New_York:20210516T160000
DTSTAMP:20221005T194617
CREATED:20210406T160803Z
LAST-MODIFIED:20210406T160938Z
UID:77247-1621170000-1621180800@www.kidsburgh.org
SUMMARY:Colonial Friendship Day
DESCRIPTION:FREE EVENT! Experience history in real life as you visit with costumed interpreters\, musicians and Colonial Craftsmen in our small pioneer village. \nAll of the buildings will be staffed by our wonderful costumed interpreters. Visit with craftsmen around the grounds and see what they have for sale. \nThroughout the Museum grounds\, you can visit the “locals” as they carry on their daily activities. See you soon in the 18th Century! \nFor more information e-mail the Museum -or- call 412-486-0563 and leave a message.
URL:https://www.kidsburgh.org/ec/friendship-day/
LOCATION:Depreciation Lands Museum\, 5130 N. Pioneer Road\, Gibsonia\, PA\, 15044
CATEGORIES:Arts and Culture,Community
ORGANIZER;CN="Depreciation%20Lands%20Museum":MAILTO:mailto:DLM@dlmuseum.org
END:VEVENT
END:VCALENDAR