BEGIN:VCALENDAR
VERSION:2.0
PRODID:-//Kidsburgh - ECPv6.0.1.1//NONSGML v1.0//EN
CALSCALE:GREGORIAN
METHOD:PUBLISH
X-ORIGINAL-URL:https://www.kidsburgh.org
X-WR-CALDESC:Events for Kidsburgh
REFRESH-INTERVAL;VALUE=DURATION:PT1H
X-Robots-Tag:noindex
X-PUBLISHED-TTL:PT1H
BEGIN:VTIMEZONE
TZID:America/New_York
BEGIN:DAYLIGHT
TZOFFSETFROM:-0500
TZOFFSETTO:-0400
TZNAME:EDT
DTSTART:20200308T070000
END:DAYLIGHT
BEGIN:STANDARD
TZOFFSETFROM:-0400
TZOFFSETTO:-0500
TZNAME:EST
DTSTART:20201101T060000
END:STANDARD
END:VTIMEZONE
BEGIN:VEVENT
DTSTART;TZID=America/New_York:20200529T190000
DTEND;TZID=America/New_York:20200529T233000
DTSTAMP:20221005T201134
CREATED:20200529T184838Z
LAST-MODIFIED:20200529T184838Z
UID:65197-1590778800-1590795000@www.kidsburgh.org
SUMMARY:'Sonic the Hedgehog' at the drive-in
DESCRIPTION:Features and Showtimes Friday May 29th thru Thursday June4th\nScreen One: “Sonic The Hedgehog” PG 8:45 and “Trolls World Tour” PG 10:25\nWe would like to welcome you back to the drive-in\, however\, we must ask that you attend safely. There are a few guidelines you must follow when attending the drive in to ensure both your safety and everyone else’s. While we strive to keep a fun and relaxed atmosphere\, safety is very important. Anyone not following these guidelines will be asked to leave immediately without a refund. \nThe concession will now deliver to your car. Prior to coming to the drive-in\, download the FanFood app onto your phone or mobile device. Set up your account ahead of time. You can set up your credit card to it or use Apple Pay if you have it set up. Once you arrive at the drive-in your account will be set up and you can order your food. Then you will simply wait at your car/space until you receive a notification on your phone that your food is ready for pick up. Once you receive that notification simply come to the main concession stand to pick it up.
URL:https://www.kidsburgh.org/ec/sonic-the-hedgehog-at-the-drive-in/2020-05-29/
LOCATION:Dependable Drive-in\, 549 Moon Clinton Road\, Moon\, 15108
GEO:40.5109913;-80.2551319
X-APPLE-STRUCTURED-LOCATION;VALUE=URI;X-ADDRESS=Dependable Drive-in 549 Moon Clinton Road Moon 15108;X-APPLE-RADIUS=500;X-TITLE=549 Moon Clinton Road:geo:-80.2551319,40.5109913
END:VEVENT
END:VCALENDAR