BEGIN:VCALENDAR
VERSION:2.0
PRODID:-//Kidsburgh - ECPv6.0.1.1//NONSGML v1.0//EN
CALSCALE:GREGORIAN
METHOD:PUBLISH
X-ORIGINAL-URL:https://www.kidsburgh.org
X-WR-CALDESC:Events for Kidsburgh
REFRESH-INTERVAL;VALUE=DURATION:PT1H
X-Robots-Tag:noindex
X-PUBLISHED-TTL:PT1H
BEGIN:VTIMEZONE
TZID:America/New_York
BEGIN:DAYLIGHT
TZOFFSETFROM:-0500
TZOFFSETTO:-0400
TZNAME:EDT
DTSTART:20200308T070000
END:DAYLIGHT
BEGIN:STANDARD
TZOFFSETFROM:-0400
TZOFFSETTO:-0500
TZNAME:EST
DTSTART:20201101T060000
END:STANDARD
END:VTIMEZONE
BEGIN:VEVENT
DTSTART;TZID=America/New_York:20200605T120000
DTEND;TZID=America/New_York:20200605T210000
DTSTAMP:20221005T201124
CREATED:20200604T140734Z
LAST-MODIFIED:20200604T140734Z
UID:65353-1591358400-1591390800@www.kidsburgh.org
SUMMARY:Fun Fore All Family Fun Park: More Attractions Opening
DESCRIPTION:Fun Fore All Family Fun Park will be opening it’s attractions on Friday\, June 5th\, as Butler County moves into the ‘Green Phase’ of Governors Wolf’s reopening plans. The park will be open daily from 12 PM – 9 PM. \nThe health and safety of their guests and staff has always been their number one concern. It will continue to be their top priority while operating under the CDC\, and state and local official guidelines. Fun Fore All has made changes to the park and have implemented safety guidelines to ensure guests have an enjoyable and safe experience. \nExamples of Fun Fore All’s safety guidelines include social distancing arcade games\, sanitizing games\, and high touch areas every half hour\, limiting the number of guests on each attraction\, ensuring all guests are social distancing while waiting in line\, etc.. \nDue to certain restrictions\, not all attractions will be open at this time. The attractions that are temporarily closed include Ballocity\, Happy Swing\, Extreme Air Jumpers\, and the Rock Climbing Wall.\nWe thank everyone for their patience and understandings as we worked diligently to get to this point!\nThe Fun Fore All team is excited to reopen and hopes to see everyone at the park soon!
URL:https://www.kidsburgh.org/ec/fun-fore-all-family-fun-park-more-attractions-opening/
LOCATION:Cranberry Township\, 8 Progress Avenue\, Cranberry Twp\, PA\, 16066\, United States
ATTACH;FMTTYPE=image/jpeg:https://www.kidsburgh.org/wp-content/uploads/2020/06/Faceboook-Cover-1.jpg
GEO:40.7090263;-80.1049502
X-APPLE-STRUCTURED-LOCATION;VALUE=URI;X-ADDRESS=Cranberry Township 8 Progress Avenue Cranberry Twp PA 16066 United States;X-APPLE-RADIUS=500;X-TITLE=8 Progress Avenue:geo:-80.1049502,40.7090263
END:VEVENT
END:VCALENDAR