BEGIN:VCALENDAR
VERSION:2.0
PRODID:-//Kidsburgh - ECPv6.0.1.1//NONSGML v1.0//EN
CALSCALE:GREGORIAN
METHOD:PUBLISH
X-WR-CALNAME:Kidsburgh
X-ORIGINAL-URL:https://www.kidsburgh.org
X-WR-CALDESC:Events for Kidsburgh
REFRESH-INTERVAL;VALUE=DURATION:PT1H
X-Robots-Tag:noindex
X-PUBLISHED-TTL:PT1H
BEGIN:VTIMEZONE
TZID:America/New_York
BEGIN:DAYLIGHT
TZOFFSETFROM:-0500
TZOFFSETTO:-0400
TZNAME:EDT
DTSTART:20220313T070000
END:DAYLIGHT
BEGIN:STANDARD
TZOFFSETFROM:-0400
TZOFFSETTO:-0500
TZNAME:EST
DTSTART:20221106T060000
END:STANDARD
END:VTIMEZONE
BEGIN:VEVENT
DTSTART;TZID=America/New_York:20220404T080000
DTEND;TZID=America/New_York:20220404T170000
DTSTAMP:20221005T201510
CREATED:20220404T204506Z
LAST-MODIFIED:20220404T204506Z
UID:90090-1649059200-1649091600@www.kidsburgh.org
SUMMARY:Easter Egg Hunt and Bunny Visit
DESCRIPTION:Come visit with the Easter Bunny\, participate in an egg hunt & more fun!\n\n\n\n\n\nAbout this event\n\n\nPlease claim a ticket for everyone who will attend. This will help us to plan and have enough fun for everyone attending! 🙂 \nAdmission is $5/person. Want a coupon to get in for FREE? Click HERE to get the special coupon code!
URL:https://www.kidsburgh.org/ec/easter-egg-hunt-and-bunny-visit/
LOCATION:Cool Springs Sports Complex\, 3001 Cool Springs Dr.\, Pittsburgh\, PA\, 15222\, United States
CATEGORIES:Community
ATTACH;FMTTYPE=image/jpeg:https://www.kidsburgh.org/wp-content/uploads/2022/04/Easter-Egg-Hunt-and-Bunny-Visit.jpg
ORGANIZER;CN="Cool%20Springs%20Sports%20Complex":MAILTO:info@playcoolsprings.com
END:VEVENT
END:VCALENDAR