BEGIN:VCALENDAR
VERSION:2.0
PRODID:-//Kidsburgh - ECPv6.0.1.1//NONSGML v1.0//EN
CALSCALE:GREGORIAN
METHOD:PUBLISH
X-ORIGINAL-URL:https://www.kidsburgh.org
X-WR-CALDESC:Events for Kidsburgh
REFRESH-INTERVAL;VALUE=DURATION:PT1H
X-Robots-Tag:noindex
X-PUBLISHED-TTL:PT1H
BEGIN:VTIMEZONE
TZID:America/New_York
BEGIN:DAYLIGHT
TZOFFSETFROM:-0500
TZOFFSETTO:-0400
TZNAME:EDT
DTSTART:20220313T070000
END:DAYLIGHT
BEGIN:STANDARD
TZOFFSETFROM:-0400
TZOFFSETTO:-0500
TZNAME:EST
DTSTART:20221106T060000
END:STANDARD
END:VTIMEZONE
BEGIN:VEVENT
DTSTART;TZID=America/New_York:20220430T090000
DTEND;TZID=America/New_York:20220430T170000
DTSTAMP:20221005T195608
CREATED:20220404T200637Z
LAST-MODIFIED:20220404T200637Z
UID:90006-1651309200-1651338000@www.kidsburgh.org
SUMMARY:Handmade Arcade Spring Market
DESCRIPTION:Don’t miss Handmade Arcade’s free pop-up Spring Market featuring live artists demonstrations and products from 30 talented emerging makers\, artists\, and craftspeople. Renew your home décor with cozy candles\, inventive ceramics\, and unique artwork you won’t find at the big box stores. If you’re looking to indulge our makers have you covered with luxurious bath and body products\, handcrafted wallets\, and one-of-a-kind jewelry. Shop Handmade and support our community’s up-and-coming artists! \nFood will be provided by Sprezzatura and Hermes Food Truck\, with coffee\, pastries\, and non-alcoholic craft drinks by Pittsburgh Mobile Bars. The market will follow the COVID-19 safety measures of our host\, Construction Junction. This event is free and does not require registration.
URL:https://www.kidsburgh.org/ec/handmade-arcade-spring-market/
LOCATION:Construction Junction\, 214 N Lexington St\, Pittsburgh\, PA\, 15208\, United States
CATEGORIES:Arts and Culture
ATTACH;FMTTYPE=image/jpeg:https://www.kidsburgh.org/wp-content/uploads/2022/04/FBevent-Final_Spring2022.jpg
ORGANIZER;CN="Handmade%20Arcade":MAILTO:info@handmadearcade.com
END:VEVENT
END:VCALENDAR