BEGIN:VCALENDAR
VERSION:2.0
PRODID:-//Kidsburgh - ECPv6.0.1.1//NONSGML v1.0//EN
CALSCALE:GREGORIAN
METHOD:PUBLISH
X-WR-CALNAME:Kidsburgh
X-ORIGINAL-URL:https://www.kidsburgh.org
X-WR-CALDESC:Events for Kidsburgh
REFRESH-INTERVAL;VALUE=DURATION:PT1H
X-Robots-Tag:noindex
X-PUBLISHED-TTL:PT1H
BEGIN:VTIMEZONE
TZID:America/New_York
BEGIN:DAYLIGHT
TZOFFSETFROM:-0500
TZOFFSETTO:-0400
TZNAME:EDT
DTSTART:20190310T070000
END:DAYLIGHT
BEGIN:STANDARD
TZOFFSETFROM:-0400
TZOFFSETTO:-0500
TZNAME:EST
DTSTART:20191103T060000
END:STANDARD
END:VTIMEZONE
BEGIN:VEVENT
DTSTART;TZID=America/New_York:20191012T083000
DTEND;TZID=America/New_York:20191012T120000
DTSTAMP:20221005T195948
CREATED:20190826T172415Z
LAST-MODIFIED:20190826T172438Z
UID:54156-1570869000-1570881600@www.kidsburgh.org
SUMMARY:CoderDojo Pittsburgh
DESCRIPTION:CoderDojo is a global movement of free\, volunteer-led\, community-based programming clubs for young people. \nAnyone aged 7 to 17 can visit a Dojo where they can learn to code\, build a website\, create an app or a game\, and explore technology in an informal\, creative\, and social environment. \nWe focus on self-led learning\, peer learning\, and youth mentoring. We aim to help young people realize that they can build a positive future through coding and community. \nYou can learn more about the global CoderDojo community here.
URL:https://www.kidsburgh.org/ec/coderdojo-pittsburgh/
LOCATION:Code & Supply\, 5648 Friendship Ave\, Pittsburgh\, 15206\, United States
CATEGORIES:Science and Technology,Education
ATTACH;FMTTYPE=image/jpeg:https://www.kidsburgh.org/wp-content/uploads/2019/08/eventbrite_cover-e1567457920176.jpg
ORGANIZER;CN="CoderDojo%20Pittsburgh":MAILTO:pittsburgh.friendship.us@coderdojo.com
GEO:40.4599658;-79.9307613
X-APPLE-STRUCTURED-LOCATION;VALUE=URI;X-ADDRESS=Code & Supply 5648 Friendship Ave Pittsburgh 15206 United States;X-APPLE-RADIUS=500;X-TITLE=5648 Friendship Ave:geo:-79.9307613,40.4599658
END:VEVENT
END:VCALENDAR