BEGIN:VCALENDAR
VERSION:2.0
PRODID:-//Kidsburgh - ECPv6.0.1.1//NONSGML v1.0//EN
CALSCALE:GREGORIAN
METHOD:PUBLISH
X-ORIGINAL-URL:https://www.kidsburgh.org
X-WR-CALDESC:Events for Kidsburgh
REFRESH-INTERVAL;VALUE=DURATION:PT1H
X-Robots-Tag:noindex
X-PUBLISHED-TTL:PT1H
BEGIN:VTIMEZONE
TZID:America/New_York
BEGIN:DAYLIGHT
TZOFFSETFROM:-0500
TZOFFSETTO:-0400
TZNAME:EDT
DTSTART:20210314T070000
END:DAYLIGHT
BEGIN:STANDARD
TZOFFSETFROM:-0400
TZOFFSETTO:-0500
TZNAME:EST
DTSTART:20211107T060000
END:STANDARD
END:VTIMEZONE
BEGIN:VEVENT
DTSTART;TZID=America/New_York:20210814T150000
DTEND;TZID=America/New_York:20210814T163000
DTSTAMP:20221005T200555
CREATED:20210802T153038Z
LAST-MODIFIED:20210802T153038Z
UID:81079-1628953200-1628958600@www.kidsburgh.org
SUMMARY:Puppets in the Park: Jeghetto Homecoming Puppet Show
DESCRIPTION:Come and celebrate with internationally recognized Tarish “Jeghetto” Pipkins at our Puppets in the Park event in his hometown of Clairton!\n\nGASP is pleased to sponsor the event\, which will feature the puppet master as he manipulates his handmade creations crafted from recycled materials.\n\nThe event is slated for 3 p.m. Saturday\, Aug. 14 at Clairton Park (Shelter 3).\n\nThe show features a unique form of storytelling through a hybrid of puppetry and hip hop for children of all ages.\n\nBonus: Stick around after the show to visit GASP’s clean air education table for kids featuring fun activities and a guest appearance from our friend and local puppeteer Dave English along with his sidekick Dirty Gertie the Poor Polluted Birdie.\n\nSo bring your family\, some lawn chairs or picnic blankets\, and join us for some fun.\n\nNote: The shelter is equipped with picnic tables for those who’d prefer to be seated under the shelter\, which is located across from the ballfields. Driving? Parking is available along the road near the shelter.
URL:https://www.kidsburgh.org/ec/puppets-in-the-park-jeghetto-homecoming-puppet-show/
LOCATION:Clairton Park – Shelter 3\, Perrymount Road\, Clairton\, 15025\, United States
ATTACH;FMTTYPE=image/png:https://www.kidsburgh.org/wp-content/uploads/2021/07/Clairton-Event-Flyer-8.5x11.png
ORGANIZER;CN="Group%20Against%20Smog%20and%20Pollution%20%28GASP%29":MAILTO:jessica@gasp-pgh.org
END:VEVENT
BEGIN:VEVENT
DTSTART;TZID=America/New_York:20210814T150000
DTEND;TZID=America/New_York:20210814T170000
DTSTAMP:20221005T200555
CREATED:20210810T204739Z
LAST-MODIFIED:20210810T204739Z
UID:81314-1628953200-1628960400@www.kidsburgh.org
SUMMARY:Puppets in the Park
DESCRIPTION:Puppetmaster Tarish Jeghetto Pipkins returns to his hometown of Clairton for Puppets in the Park. His unusual storytelling combines puppetry and hip hop with handmade characters made from recycled materials. \nAs the sponsor\, GASP (Group Against Smog and Pollution) will offer activities at the clean air education table. Pittsburgh puppeteer Dave English will make an appearance along with his sidekick\, Dirty Gertie the Poor Polluted Birdie. The free fun starts at 3 p.m. Aug. 14 at Clairton Park Shelter 3. Bring blankets and chairs for an entertaining afternoon. No registration is required.
URL:https://www.kidsburgh.org/ec/puppets-in-the-park/
LOCATION:Clairton Park – Shelter 3\, Perrymount Road\, Clairton\, 15025\, United States
CATEGORIES:Advocacy
ORGANIZER;CN="Group%20Against%20Smog%20and%20Pollution%20%28GASP%29":MAILTO:jessica@gasp-pgh.org
END:VEVENT
END:VCALENDAR