BEGIN:VCALENDAR
VERSION:2.0
PRODID:-//Kidsburgh - ECPv6.0.1.1//NONSGML v1.0//EN
CALSCALE:GREGORIAN
METHOD:PUBLISH
X-ORIGINAL-URL:https://www.kidsburgh.org
X-WR-CALDESC:Events for Kidsburgh
REFRESH-INTERVAL;VALUE=DURATION:PT1H
X-Robots-Tag:noindex
X-PUBLISHED-TTL:PT1H
BEGIN:VTIMEZONE
TZID:America/New_York
BEGIN:DAYLIGHT
TZOFFSETFROM:-0500
TZOFFSETTO:-0400
TZNAME:EDT
DTSTART:20190310T070000
END:DAYLIGHT
BEGIN:STANDARD
TZOFFSETFROM:-0400
TZOFFSETTO:-0500
TZNAME:EST
DTSTART:20191103T060000
END:STANDARD
END:VTIMEZONE
BEGIN:VEVENT
DTSTART;TZID=America/New_York:20190817T110000
DTEND;TZID=America/New_York:20190817T170000
DTSTAMP:20221005T201412
CREATED:20190604T182017Z
LAST-MODIFIED:20190604T182017Z
UID:52438-1566039600-1566061200@www.kidsburgh.org
SUMMARY:Citiparks Community Appreciation Day
DESCRIPTION:Enjoy the diverse heritage\, food and entertainment of Pittsburgh’s neighborhoods. Throughout the year\, community festivals celebrate city living and showcase neighborhoods’ best features.  Be sure to take advantage of this great opportunity to spend time with your neighbors while enjoying fun-filled family activities. \nCommunity Appreciation Day takes place on Center Avenue between Kirkpatrick Street and Grove Street. \nFor more information\, follow @PghEventsOffice on Twitter\, LIKE @PghEventsOffice on Facebook or call the Special Events hotline at 412-255-2493.
URL:https://www.kidsburgh.org/ec/citiparks-community-appreciation-day/
LOCATION:Center Avemue between Kirkpatrick Street and Grove Street\, Pittsburgh\, PA\, 2\, United States
CATEGORIES:Community
END:VEVENT
END:VCALENDAR