BEGIN:VCALENDAR
VERSION:2.0
PRODID:-//Kidsburgh - ECPv6.0.1.1//NONSGML v1.0//EN
CALSCALE:GREGORIAN
METHOD:PUBLISH
X-ORIGINAL-URL:https://www.kidsburgh.org
X-WR-CALDESC:Events for Kidsburgh
REFRESH-INTERVAL;VALUE=DURATION:PT1H
X-Robots-Tag:noindex
X-PUBLISHED-TTL:PT1H
BEGIN:VTIMEZONE
TZID:America/New_York
BEGIN:DAYLIGHT
TZOFFSETFROM:-0500
TZOFFSETTO:-0400
TZNAME:EDT
DTSTART:20220313T070000
END:DAYLIGHT
BEGIN:STANDARD
TZOFFSETFROM:-0400
TZOFFSETTO:-0500
TZNAME:EST
DTSTART:20221106T060000
END:STANDARD
END:VTIMEZONE
BEGIN:VEVENT
DTSTART;TZID=America/New_York:20220409T130000
DTEND;TZID=America/New_York:20220409T150000
DTSTAMP:20221005T201838
CREATED:20220408T222030Z
LAST-MODIFIED:20220408T222030Z
UID:90218-1649509200-1649516400@www.kidsburgh.org
SUMMARY:Easter Egg Hunt
DESCRIPTION:Carrick Community Council\, The Phillips Park Recreation Center\, and 25 Carrick Ave Project are hosting a community Easter egg hunt. \n  \nThis is for kids ages 2-8. \n  \nPlease no pets \n  \nMusic\, Games\, Food and fun.
URL:https://www.kidsburgh.org/ec/easter-egg-hunt/
LOCATION:Carrick Community Council\, 203 Parkfield Street\, Pittsburgh\, PA\, 15210\, United States
ATTACH;FMTTYPE=image/jpeg:https://www.kidsburgh.org/wp-content/uploads/2022/04/easter-egg-hunt-carrick.jpg
END:VEVENT
END:VCALENDAR