BEGIN:VCALENDAR
VERSION:2.0
PRODID:-//Kidsburgh - ECPv6.0.1.1//NONSGML v1.0//EN
CALSCALE:GREGORIAN
METHOD:PUBLISH
X-WR-CALNAME:Kidsburgh
X-ORIGINAL-URL:https://www.kidsburgh.org
X-WR-CALDESC:Events for Kidsburgh
REFRESH-INTERVAL;VALUE=DURATION:PT1H
X-Robots-Tag:noindex
X-PUBLISHED-TTL:PT1H
BEGIN:VTIMEZONE
TZID:America/New_York
BEGIN:DAYLIGHT
TZOFFSETFROM:-0500
TZOFFSETTO:-0400
TZNAME:EDT
DTSTART:20200308T070000
END:DAYLIGHT
BEGIN:STANDARD
TZOFFSETFROM:-0400
TZOFFSETTO:-0500
TZNAME:EST
DTSTART:20201101T060000
END:STANDARD
BEGIN:DAYLIGHT
TZOFFSETFROM:-0500
TZOFFSETTO:-0400
TZNAME:EDT
DTSTART:20210314T070000
END:DAYLIGHT
BEGIN:STANDARD
TZOFFSETFROM:-0400
TZOFFSETTO:-0500
TZNAME:EST
DTSTART:20211107T060000
END:STANDARD
BEGIN:DAYLIGHT
TZOFFSETFROM:-0500
TZOFFSETTO:-0400
TZNAME:EDT
DTSTART:20220313T070000
END:DAYLIGHT
BEGIN:STANDARD
TZOFFSETFROM:-0400
TZOFFSETTO:-0500
TZNAME:EST
DTSTART:20221106T060000
END:STANDARD
END:VTIMEZONE
BEGIN:VEVENT
DTSTART;TZID=America/New_York:20220813T133000
DTEND;TZID=America/New_York:20220813T153000
DTSTAMP:20221005T200457
CREATED:20220721T120130Z
LAST-MODIFIED:20220721T120130Z
UID:93736-1660397400-1660404600@www.kidsburgh.org
SUMMARY:Open House at Carnegie Performing Arts Center
DESCRIPTION:Carnegie Performing Arts Center will host a Free Open House on Saturday\, August 13\, at its studio located at 500 Chestnut Street in Carnegie. Children ages 2-10 are invited to do crafts\, take photos with costumed fairy tale characters\, sample classes\, and watch current students perform. Free Sample dance class will be offered at 1:30 pm for ages 2-4\, at 2 pm fairytale characters visit\, and dance classes will be offered at 2:30 pm for ages 5-7. At 3 pm there will be a student performance and at 3:30 p.m. a sample dance class for ages 8-10 years. \nThere will be children’s crafts\, giveaways and prizes. Past performance costumes will be on display with a chance to see pointe shoes up-close\, meet some of our talented CPAC dancers\, and participate in some dance fun. \n 
URL:https://www.kidsburgh.org/ec/open-house-at-carnegie-performing-arts-center-2/
LOCATION:Carnegie Performing Arts Center\, 500 Chestnut Street\, Carnegie\, 15106
CATEGORIES:Arts and Culture,Education,Community
ATTACH;FMTTYPE=image/png:https://www.kidsburgh.org/wp-content/uploads/2022/07/open-house-square.png
GEO:40.4091846;-80.0817347
X-APPLE-STRUCTURED-LOCATION;VALUE=URI;X-ADDRESS=Carnegie Performing Arts Center 500 Chestnut Street Carnegie 15106;X-APPLE-RADIUS=500;X-TITLE=500 Chestnut Street:geo:-80.0817347,40.4091846
END:VEVENT
BEGIN:VEVENT
DTSTART;TZID=America/New_York:20210814T130000
DTEND;TZID=America/New_York:20210814T170000
DTSTAMP:20221005T200457
CREATED:20210712T183925Z
LAST-MODIFIED:20210712T183937Z
UID:80654-1628946000-1628960400@www.kidsburgh.org
SUMMARY:Open House at Carnegie Performing Arts Center
DESCRIPTION:Carnegie Performing Arts Center will host a Free Open House on Saturday\, August 14\, at its new studio located at 500 Chestnut Street in Carnegie.  Children ages 2-10 are invited to do crafts\, take photos with ballerinas\, sample classes\, and watch current students perform.  Free Sample dance class will be offered at 1:30 pm for ages 2-4\,  2:30 pm for ages 5-7\, and 3 pm for ages 8-10.  This will be followed by a student performance at 4 pm.   \nThere will be children’s crafts\, giveaways\, and prizes. Past performance costumes will be on display with a chance to see pointe shoes up-close\, meet some of our talented CPAC dancers\, and participate in some dance fun.  \nThere are three dance studios to see plus a music studio for piano lessons\, children and teenage acting\, and musical theater.  Signups for the fall semester will be held the following Thursday\, August 19\, from 5 – 8 p.m.\, Friday\, August 20 from 5-8 p.m.\, and Saturday\,  August 21 from 1- 5 p.m. While RSVPs are not required\, you can call or email info@carnegieperformingartscenter or call 412-279-8887 in advance to receive a fall brochure.  \n  \nAs in past years\, the Carnegie Performing Arts Center offers a full schedule of dance classes including ballet\, tap\, jazz\, lyrical\, hip hop\, modern\, acting\, musical theater\, and piano lessons.  There are also opportunities for children to participate in 4 full productions.  The first is the ballet the Nutcracker in December\, the ballet Peter Pan in March\, the play Beauty and the Beast in April\, and the school Recital in June.  \nTo stay up to date on our Open House offerings for the Open House on Saturday\, August 14\, and a list of our classes\, please look at our website at www.CarnegiePerformingArtsCenter.com or at our Facebook page Carnegie Performing Arts Center.  Messages can be left at the studio 412-279-8887 or at info@carnegieperformingartscenter.com
URL:https://www.kidsburgh.org/ec/open-house-at-carnegie-performing-arts-center/
LOCATION:Carnegie Performing Arts Center\, 500 Chestnut Street\, Carnegie\, 15106
ATTACH;FMTTYPE=image/jpeg:https://www.kidsburgh.org/wp-content/uploads/2021/07/Screen-Shot-2021-06-25-at-4.18.36-PM-1.jpeg
GEO:40.4091846;-80.0817347
X-APPLE-STRUCTURED-LOCATION;VALUE=URI;X-ADDRESS=Carnegie Performing Arts Center 500 Chestnut Street Carnegie 15106;X-APPLE-RADIUS=500;X-TITLE=500 Chestnut Street:geo:-80.0817347,40.4091846
END:VEVENT
BEGIN:VEVENT
DTSTART;TZID=America/New_York:20210220T130000
DTEND;TZID=America/New_York:20210220T140000
DTSTAMP:20221005T200457
CREATED:20210118T200445Z
LAST-MODIFIED:20210118T200445Z
UID:74601-1613826000-1613829600@www.kidsburgh.org
SUMMARY:'Snow White' Auditions
DESCRIPTION:The Carnegie Performing Arts Center is holding auditions for the children’s play Snow White based on the fairy tale by the Brothers Grimm. Performances will be at the Andrew Carnegie Music Hall in May. Director Monica Ryan directs the production and rehearsals will take place on Saturday afternoons. Ages 5 – 18 are invited to audition at 1 p.m. on Saturday\, February 20\, at the studios of the Carnegie Performing Arts Center\, 500 Chestnut Street in Carnegie. For more information call the school at 412-279-8887\, access the web site at www.carnegieperformingartscenter.com. or look on Face book under Carnegie Performing Arts Center.
URL:https://www.kidsburgh.org/ec/snow-white-auditions/
LOCATION:Carnegie Performing Arts Center\, 500 Chestnut Street\, Carnegie\, 15106
GEO:40.4091846;-80.0817347
X-APPLE-STRUCTURED-LOCATION;VALUE=URI;X-ADDRESS=Carnegie Performing Arts Center 500 Chestnut Street Carnegie 15106;X-APPLE-RADIUS=500;X-TITLE=500 Chestnut Street:geo:-80.0817347,40.4091846
END:VEVENT
BEGIN:VEVENT
DTSTART;TZID=America/New_York:20210130T140000
DTEND;TZID=America/New_York:20210130T160000
DTSTAMP:20221005T200457
CREATED:20201229T213118Z
LAST-MODIFIED:20201229T213118Z
UID:74003-1612015200-1612022400@www.kidsburgh.org
SUMMARY:Auditions for 'Little Mermaid Ballet'
DESCRIPTION:The Carnegie Performing Arts Center is holding auditions for the ballet The Little Mermaid based on the fairy tale by Hans Christian Andersen. Performances will be at the Andrew Carnegie Music Hall in April of 2021. Director Monica Ryan choreographs the production and rehearsals will take place on Saturday afternoons. \nAges 5 – 12 are invited to audition at 2 p.m.\, ages 13 and up are invited to audition at 3 p.m. on Saturday\, January 30th at the studios of the Carnegie Performing Arts Center\, 500 Chestnut Street in Carnegie. For more information call the school at 412-279-8887 or access the website at www.carnegieperformingartscenter.com.
URL:https://www.kidsburgh.org/ec/auditions-for-little-mermaid-ballet/
LOCATION:Carnegie Performing Arts Center\, 500 Chestnut Street\, Carnegie\, 15106
ATTACH;FMTTYPE=:
GEO:40.4091846;-80.0817347
X-APPLE-STRUCTURED-LOCATION;VALUE=URI;X-ADDRESS=Carnegie Performing Arts Center 500 Chestnut Street Carnegie 15106;X-APPLE-RADIUS=500;X-TITLE=500 Chestnut Street:geo:-80.0817347,40.4091846
END:VEVENT
BEGIN:VEVENT
DTSTART;TZID=America/New_York:20201003T140000
DTEND;TZID=America/New_York:20201003T160000
DTSTAMP:20221005T200457
CREATED:20200908T151253Z
LAST-MODIFIED:20200908T151253Z
UID:70165-1601733600-1601740800@www.kidsburgh.org
SUMMARY:Carnegie Performing Arts Center: 'Nutcracker' Auditions
DESCRIPTION:Auditions for dancers\, boys and girls\, are being held for the annual performance of the Nutcracker as presented by the Carnegie Performing Arts Center. Two weekends of performances are being offered in a full stage production at the historic Andrew Carnegie Music Hall in Carnegie. Director Monica Ryan choreographs the production and rehearsals will take place on Saturday afternoons. \nDancers ages 5 through adult are invited to attend the audition on Saturday\, October 3. Ages 5 – 12 years old will be seen at 2 p.m. and 13 and up at 3 p.m. The auditions will take place at the new studios of the Carnegie Performing Arts Center\, 500 Chestnut Street in Carnegie. \nFor more information call the school at 412-279-8887\, email info@carnegieperformingartscenter.com or access the web site at www.carnegieperformingartscenter.com.
URL:https://www.kidsburgh.org/ec/carnegie-performing-arts-center-nutcracker-auditions/
LOCATION:Carnegie Performing Arts Center\, 500 Chestnut Street\, Carnegie\, 15106
CATEGORIES:Arts and Culture
ATTACH;FMTTYPE=image/jpeg:https://www.kidsburgh.org/wp-content/uploads/2020/09/Nutcracker-2020-ad-greentree-audition-bw-e1599849591542.jpg
GEO:40.4091846;-80.0817347
X-APPLE-STRUCTURED-LOCATION;VALUE=URI;X-ADDRESS=Carnegie Performing Arts Center 500 Chestnut Street Carnegie 15106;X-APPLE-RADIUS=500;X-TITLE=500 Chestnut Street:geo:-80.0817347,40.4091846
END:VEVENT
BEGIN:VEVENT
DTSTART;TZID=America/New_York:20201003T140000
DTEND;TZID=America/New_York:20201003T160000
DTSTAMP:20221005T200457
CREATED:20200908T151253Z
LAST-MODIFIED:20200908T151253Z
UID:74316-1601733600-1601740800@www.kidsburgh.org
SUMMARY:Carnegie Performing Arts Center: 'Nutcracker' Auditions
DESCRIPTION:Auditions for dancers\, boys and girls\, are being held for the annual performance of the Nutcracker as presented by the Carnegie Performing Arts Center. Two weekends of performances are being offered in a full stage production at the historic Andrew Carnegie Music Hall in Carnegie. Director Monica Ryan choreographs the production and rehearsals will take place on Saturday afternoons. \nDancers ages 5 through adult are invited to attend the audition on Saturday\, October 3. Ages 5 – 12 years old will be seen at 2 p.m. and 13 and up at 3 p.m. The auditions will take place at the new studios of the Carnegie Performing Arts Center\, 500 Chestnut Street in Carnegie. \nFor more information call the school at 412-279-8887\, email info@carnegieperformingartscenter.com or access the web site at www.carnegieperformingartscenter.com.
URL:https://www.kidsburgh.org/ec/carnegie-performing-arts-center-nutcracker-auditions-2/
LOCATION:Carnegie Performing Arts Center\, 500 Chestnut Street\, Carnegie\, 15106
CATEGORIES:Arts and Culture
ATTACH;FMTTYPE=image/jpeg:https://www.kidsburgh.org/wp-content/uploads/2020/09/Nutcracker-2020-ad-greentree-audition-bw-e1599849591542.jpg
GEO:40.4091846;-80.0817347
X-APPLE-STRUCTURED-LOCATION;VALUE=URI;X-ADDRESS=Carnegie Performing Arts Center 500 Chestnut Street Carnegie 15106;X-APPLE-RADIUS=500;X-TITLE=500 Chestnut Street:geo:-80.0817347,40.4091846
END:VEVENT
BEGIN:VEVENT
DTSTART;TZID=America/New_York:20200823T110000
DTEND;TZID=America/New_York:20200823T150000
DTSTAMP:20221005T200457
CREATED:20200724T184536Z
LAST-MODIFIED:20200724T184607Z
UID:68692-1598180400-1598194800@www.kidsburgh.org
SUMMARY:Carnegie Performing Arts Center Open House
DESCRIPTION:Carnegie Performing Arts Center will host a Free Open House on Sunday\, August 23\, at its new studio located at 500 Chestnut Street in Carnegie. The Carnegie Performing Arts Center was invited to utilize the 1st floor of the Ahavath Achim Congregation after spending many years at the Masonic Hall in Carnegie. The public is invited to see the new dance space and children can try sample classes for the upcoming fall semester.  Free Sample dance class will be offered from 11 am-3 pm for children age 3 and up. Sample dance classes will include pre-dance and ballet classes\, hip hop fun for ages 3 – 9 and ballet\, jazz\, and Carnegie lyrical for ages 10 and up.   \nThere will also be children’s crafts as well as giveaways. Past performance costumes will be on display and a chance to see pointe shoes up-close\, meet some of our talented CPAC dancers\, and participate in some dance fun!  \nThere are three dance studios with new flooring plus a music studio for piano lessons\, children and teenage acting and musical theater.  Registration for the fall semester will be held the following Monday\, Tuesday\, and Wednesday\, August 24\, 25\, and 26 from 5 – 8 p.m. While RSVPs are not required\, you can call or email in advance to receive a fall brochure.  \nNew this year will be a dance competition class offered for students of the school for ages 7 – 18.  Team Forte director\, Melissa Moore\, who has led the competition team to many gold and platinum awards will teach the class.  The class will be held on Wednesdays during the school year with competitions held in April and May.  Participants must be students currently taking dance classes at the Carnegie Performing Arts Center.  \nAs in past years\, the Carnegie Performing Arts Center offers a full schedule of dance classes including ballet\, tap\, jazz\, lyrical\, hip hop\, modern\, acting\, musical theater\, and piano lessons.  There are also opportunities for children to participate in 5 full productions.  The first is the play Treasure Island in September\, the ballet the Nutcracker in December\, the ballet the Little Mermaid in March\, the play Snow White in April\, and the school Recital in June. These will all be held at the Andrew Carnegie Music Hall in Carnegie. \nTo stay up to date on our Open House offerings for the Open House on Sunday\, August 23\, and a list of our classes\, please look at our website at www.CarnegiePerformingArtsCenter.com or at our Facebook page Carnegie Performing Arts Center.  Messages can be left at the studio 412-279-8887 or at info@carnegieperformingartscenter.com
URL:https://www.kidsburgh.org/ec/carnegie-performing-arts-center-open-house/
LOCATION:Carnegie Performing Arts Center\, 500 Chestnut Street\, Carnegie\, 15106
CATEGORIES:Arts and Culture
ATTACH;FMTTYPE=image/jpeg:https://www.kidsburgh.org/wp-content/uploads/2020/07/thumbnail-5-1.jpeg
GEO:40.4091846;-80.0817347
X-APPLE-STRUCTURED-LOCATION;VALUE=URI;X-ADDRESS=Carnegie Performing Arts Center 500 Chestnut Street Carnegie 15106;X-APPLE-RADIUS=500;X-TITLE=500 Chestnut Street:geo:-80.0817347,40.4091846
END:VEVENT
BEGIN:VEVENT
DTSTART;TZID=America/New_York:20200823T110000
DTEND;TZID=America/New_York:20200823T150000
DTSTAMP:20221005T200457
CREATED:20200724T184536Z
LAST-MODIFIED:20200724T184536Z
UID:74245-1598180400-1598194800@www.kidsburgh.org
SUMMARY:Carnegie Performing Arts Center Open House
DESCRIPTION:Carnegie Performing Arts Center will host a Free Open House on Sunday\, August 23\, at its new studio located at 500 Chestnut Street in Carnegie. The Carnegie Performing Arts Center was invited to utilize the 1st floor of the Ahavath Achim Congregation after spending many years at the Masonic Hall in Carnegie. The public is invited to see the new dance space and children can try sample classes for the upcoming fall semester.  Free Sample dance class will be offered from 11 am-3 pm for children age 3 and up. Sample dance classes will include pre-dance and ballet classes\, hip hop fun for ages 3 – 9 and ballet\, jazz\, and Carnegie lyrical for ages 10 and up.   \nThere will also be children’s crafts as well as giveaways. Past performance costumes will be on display and a chance to see pointe shoes up-close\, meet some of our talented CPAC dancers\, and participate in some dance fun!  \nThere are three dance studios with new flooring plus a music studio for piano lessons\, children and teenage acting and musical theater.  Registration for the fall semester will be held the following Monday\, Tuesday\, and Wednesday\, August 24\, 25\, and 26 from 5 – 8 p.m. While RSVPs are not required\, you can call or email in advance to receive a fall brochure.  \nNew this year will be a dance competition class offered for students of the school for ages 7 – 18.  Team Forte director\, Melissa Moore\, who has led the competition team to many gold and platinum awards will teach the class.  The class will be held on Wednesdays during the school year with competitions held in April and May.  Participants must be students currently taking dance classes at the Carnegie Performing Arts Center.  \nAs in past years\, the Carnegie Performing Arts Center offers a full schedule of dance classes including ballet\, tap\, jazz\, lyrical\, hip hop\, modern\, acting\, musical theater\, and piano lessons.  There are also opportunities for children to participate in 5 full productions.  The first is the play Treasure Island in September\, the ballet the Nutcracker in December\, the ballet the Little Mermaid in March\, the play Snow White in April\, and the school Recital in June. These will all be held at the Andrew Carnegie Music Hall in Carnegie. \nTo stay up to date on our Open House offerings for the Open House on Sunday\, August 23\, and a list of our classes\, please look at our website at www.CarnegiePerformingArtsCenter.com or at our Facebook page Carnegie Performing Arts Center.  Messages can be left at the studio 412-279-8887 or at info@carnegieperformingartscenter.com
URL:https://www.kidsburgh.org/ec/carnegie-performing-arts-center-open-house-2/
LOCATION:Carnegie Performing Arts Center\, 500 Chestnut Street\, Carnegie\, 15106
CATEGORIES:Arts and Culture
ATTACH;FMTTYPE=image/jpeg:https://www.kidsburgh.org/wp-content/uploads/2020/07/thumbnail-5-1.jpeg
GEO:40.4091846;-80.0817347
X-APPLE-STRUCTURED-LOCATION;VALUE=URI;X-ADDRESS=Carnegie Performing Arts Center 500 Chestnut Street Carnegie 15106;X-APPLE-RADIUS=500;X-TITLE=500 Chestnut Street:geo:-80.0817347,40.4091846
END:VEVENT
END:VCALENDAR