BEGIN:VCALENDAR
VERSION:2.0
PRODID:-//Kidsburgh - ECPv6.0.1.1//NONSGML v1.0//EN
CALSCALE:GREGORIAN
METHOD:PUBLISH
X-ORIGINAL-URL:https://www.kidsburgh.org
X-WR-CALDESC:Events for Kidsburgh
REFRESH-INTERVAL;VALUE=DURATION:PT1H
X-Robots-Tag:noindex
X-PUBLISHED-TTL:PT1H
BEGIN:VTIMEZONE
TZID:America/New_York
BEGIN:DAYLIGHT
TZOFFSETFROM:-0500
TZOFFSETTO:-0400
TZNAME:EDT
DTSTART:20190310T070000
END:DAYLIGHT
BEGIN:STANDARD
TZOFFSETFROM:-0400
TZOFFSETTO:-0500
TZNAME:EST
DTSTART:20191103T060000
END:STANDARD
END:VTIMEZONE
BEGIN:VEVENT
DTSTART;TZID=America/New_York:20190622T150000
DTEND;TZID=America/New_York:20190622T180000
DTSTAMP:20221005T201418
CREATED:20190612T150612Z
LAST-MODIFIED:20190612T150612Z
UID:52550-1561215600-1561226400@www.kidsburgh.org
SUMMARY:Hello Neighbor's Third Annual Potluck in the Park
DESCRIPTION:Hello Pittsburgh Neighbors! \nCelebrating the end of World Refugee Week and kicking off Hello Neighbor’s newest cohort\, we will be hosting our 3rd Annual Potluck in the Park on Saturday\, June 22nd from 3-6 PM at the Carnegie Park on Forsythe Rd. \nJoin us for an afternoon full of food\, outdoor fun\, and spending time with friends including your newest neighbors\, refugee and immigrant families new to Pittsburgh. \nPlease bring a food dish with enough to share for a minimum of 8. Can be homemade or store bought! We will have a separate table for Halal dishes. \nScheduled Events:\n-Haircuts by Metamorphosis \n-Blood pressure screenings and ask a pharmacist by Asti’s Pharmacy \n-Facepainting by Rikki \n– Henna by Nora \n– Soccer with Soccer Shots \nAnd more! \nHello Neighbor is a nonprofit organization providing mentorship and friendship to recently resettled refugee and immigrant families. Our mission is improving the lives of refugees and immigrants by matching them with dedicated neighbors to guide and support them in their new lives. \nWhile this event is free\, we are asking for attendees to consider our “donate-what-you-can” option at our registration table at the potluck to help support our mission and programs.
URL:https://www.kidsburgh.org/ec/hello-neighbors-third-annual-potluck-in-the-park/
LOCATION:Carnegie Park on Forsythe Rd.\, Carnegie Park\, Forsythe Rd.\, Carnegie\, 15106\, United States
ATTACH;FMTTYPE=image/jpeg:https://www.kidsburgh.org/wp-content/uploads/2019/06/57326254_598283004021747_7724382198047965184_n-e1565018529585.jpg
ORGANIZER;CN="Hello%20Neighbor":MAILTO:hannah@helloneighbor.io
GEO:40.4034077;-80.0737474
X-APPLE-STRUCTURED-LOCATION;VALUE=URI;X-ADDRESS=Carnegie Park on Forsythe Rd. Carnegie Park Forsythe Rd. Carnegie 15106 United States;X-APPLE-RADIUS=500;X-TITLE=Carnegie Park\, Forsythe Rd.:geo:-80.0737474,40.4034077
END:VEVENT
END:VCALENDAR