BEGIN:VCALENDAR
VERSION:2.0
PRODID:-//Kidsburgh - ECPv6.0.1.1//NONSGML v1.0//EN
CALSCALE:GREGORIAN
METHOD:PUBLISH
X-ORIGINAL-URL:https://www.kidsburgh.org
X-WR-CALDESC:Events for Kidsburgh
REFRESH-INTERVAL;VALUE=DURATION:PT1H
X-Robots-Tag:noindex
X-PUBLISHED-TTL:PT1H
BEGIN:VTIMEZONE
TZID:America/New_York
BEGIN:DAYLIGHT
TZOFFSETFROM:-0500
TZOFFSETTO:-0400
TZNAME:EDT
DTSTART:20210314T070000
END:DAYLIGHT
BEGIN:STANDARD
TZOFFSETFROM:-0400
TZOFFSETTO:-0500
TZNAME:EST
DTSTART:20211107T060000
END:STANDARD
END:VTIMEZONE
BEGIN:VEVENT
DTSTART;TZID=America/New_York:20210629T190000
DTEND;TZID=America/New_York:20210629T210000
DTSTAMP:20221005T202026
CREATED:20210625T151147Z
LAST-MODIFIED:20210625T151147Z
UID:80030-1624993200-1625000400@www.kidsburgh.org
SUMMARY:Kids Dance Intensive
DESCRIPTION:💃Element Dance- Kids Dance Intensive\n\n\nWhen: 6/29\, 6/30 & 7/1\n\n\nTime: 7:00-9:00pm each day\n\n\n(For ages 7-18)\n\n\nCost: $90\n\n\n.\n\n\n.\n\n\nElement Dance will be holding a kids dance intensive on 6/29\, 6/30 & 7/1. Our teacher Ericka Morton will be teaching/focusing on a different style each day.\n\n\n.\n\n\n.\n\n\nDay 1- Jazz\n\n\nDay 2- Contemporary/lyrical\n\n\nDay 3 Afro Jazz\n\n\n.\n\n\n.\n\n\n💪Students will be challenged to learn combos and techniques for each style\n\n\n.\n\n\n.\n\n\n📧 Message us on Facebook or email: elementdance17@gmail.com for more information. \n\n\n.\n\n\n.\n\n\n#elementdance #dance #dancers #choreography #danceclasses #pittsburgh #pittsburghdance #pghdance #pittsburghclasses #kidsclasses #adultclasses #dancefam #community #jazz #contemporary #afrojazz #classes #danceclass #kidsactivities #summer2021 #summerevents
URL:https://www.kidsburgh.org/ec/kids-dance-intensive/2021-06-29/
LOCATION:Carnegie\, PA\, 419 Washington Ave\, Carnegie\, PA\, 15106\, United States
CATEGORIES:Arts and Culture
ATTACH;FMTTYPE=image/jpeg:https://www.kidsburgh.org/wp-content/uploads/2021/06/shots-11-scaled.jpg
ORGANIZER;CN="Element%20Dance":MAILTO:elementdance17@gmail.com
END:VEVENT
END:VCALENDAR