BEGIN:VCALENDAR
VERSION:2.0
PRODID:-//Kidsburgh - ECPv6.0.1.1//NONSGML v1.0//EN
CALSCALE:GREGORIAN
METHOD:PUBLISH
X-WR-CALNAME:Kidsburgh
X-ORIGINAL-URL:https://www.kidsburgh.org
X-WR-CALDESC:Events for Kidsburgh
REFRESH-INTERVAL;VALUE=DURATION:PT1H
X-Robots-Tag:noindex
X-PUBLISHED-TTL:PT1H
BEGIN:VTIMEZONE
TZID:America/New_York
BEGIN:DAYLIGHT
TZOFFSETFROM:-0500
TZOFFSETTO:-0400
TZNAME:EDT
DTSTART:20220313T070000
END:DAYLIGHT
BEGIN:STANDARD
TZOFFSETFROM:-0400
TZOFFSETTO:-0500
TZNAME:EST
DTSTART:20221106T060000
END:STANDARD
END:VTIMEZONE
BEGIN:VEVENT
DTSTART;TZID=America/New_York:20220612T120000
DTEND;TZID=America/New_York:20220612T170000
DTSTAMP:20221005T194704
CREATED:20220523T133940Z
LAST-MODIFIED:20220523T133940Z
UID:92102-1655035200-1655053200@www.kidsburgh.org
SUMMARY:Carnegie Library of Pittsburgh 2022 Summer Reading Extravaganza
DESCRIPTION:Carnegie Library of Pittsburgh is hosting their 2022 Summer Reading Extravaganza at their main branch in Oakland on Sunday\, June 12 from noon to 5 p.m. The event will feature live performances\, crafts\nThe Extravaganza marks the beginning of CLP’s 2022 Summer Reading programming\, which is designed to mitigate the learning slip children experience over the summer and provide an outlet for families to learn and read together
URL:https://www.kidsburgh.org/ec/carnegie-library-of-pittsburgh-2022-summer-reading-extravaganza/
LOCATION:Carnegie Library of Pittsburgh\, Pittsburgh\, PA\, 15222\, United States
CATEGORIES:Education,Community
ATTACH;FMTTYPE=image/png:https://www.kidsburgh.org/wp-content/uploads/2022/05/library.png
END:VEVENT
BEGIN:VEVENT
DTSTART;TZID=America/New_York:20220611T103000
DTEND;TZID=America/New_York:20220611T110000
DTSTAMP:20221005T194704
CREATED:20220520T215014Z
LAST-MODIFIED:20220520T215014Z
UID:92025-1654943400-1654945200@www.kidsburgh.org
SUMMARY:Storytime: Family Fun
DESCRIPTION:Join us for stories\, songs and action rhymes. Designed to engage children ages birth to 5 years\, Family Fun storytimes provide an opportunity for a shared library experience for babies\, toddlers\, preschoolers and their grownups. During this 30 minute program\, families will meet new friends and develop early literacy skills. For children ages birth to five years and their caregivers.
URL:https://www.kidsburgh.org/ec/storytime-family-fun/
LOCATION:Carnegie Library of Pittsburgh\, Pittsburgh\, PA\, 15222\, United States
CATEGORIES:Arts and Culture
ORGANIZER;CN="Carnegie%20Library%20of%20Pittsburgh%20-%20Library%20for%20the%20Blind%20and%20Physically%20Handicapped":MAILTO:lbph@carnegielibrary.org
END:VEVENT
BEGIN:VEVENT
DTSTART;TZID=America/New_York:20220524T160000
DTEND;TZID=America/New_York:20220524T170000
DTSTAMP:20221005T194704
CREATED:20220427T015549Z
LAST-MODIFIED:20220427T015549Z
UID:91225-1653408000-1653411600@www.kidsburgh.org
SUMMARY:Teen Time CLP Woods Run
DESCRIPTION:  \nDive into hands-on projects exploring different art forms\, maker activities\, books and more. \n 
URL:https://www.kidsburgh.org/ec/teen-time-clp-woods-run/
LOCATION:Carnegie Library of Pittsburgh\, Pittsburgh\, PA\, 15222\, United States
CATEGORIES:Arts and Culture,Education,Community,Remake Learning
ATTACH;FMTTYPE=image/jpeg:https://www.kidsburgh.org/wp-content/uploads/2022/04/05-18-2022_pa-southwestern_rottmundk.jpg
END:VEVENT
BEGIN:VEVENT
DTSTART;TZID=America/New_York:20220524T160000
DTEND;TZID=America/New_York:20220524T173000
DTSTAMP:20221005T194704
CREATED:20220427T015808Z
LAST-MODIFIED:20220427T015808Z
UID:91228-1653408000-1653413400@www.kidsburgh.org
SUMMARY:Kid’s Club CLP Mount Washington
DESCRIPTION:  \nThe library is the place to be for hands-on learning through art\, maker activities\, games\, books\, technology and more. \n 
URL:https://www.kidsburgh.org/ec/kids-club-clp-mount-washington/
LOCATION:Carnegie Library of Pittsburgh\, Pittsburgh\, PA\, 15222\, United States
CATEGORIES:Education,Community,Remake Learning
ATTACH;FMTTYPE=image/jpeg:https://www.kidsburgh.org/wp-content/uploads/2022/04/05-19-2022_pa-southwestern_rottmundk.jpg
END:VEVENT
BEGIN:VEVENT
DTSTART;TZID=America/New_York:20220524T043000
DTEND;TZID=America/New_York:20220524T173000
DTSTAMP:20221005T194704
CREATED:20220427T020045Z
LAST-MODIFIED:20220427T020045Z
UID:91230-1653366600-1653413400@www.kidsburgh.org
SUMMARY:Teen Time CLP South Side
DESCRIPTION:  \nHosted by: Carnegie Library of Pittsburgh \nJoin us as we dive into hands-on projects exploring different art forms\, maker activities\, books and more. \n 
URL:https://www.kidsburgh.org/ec/teen-time-clp-south-side/
LOCATION:Carnegie Library of Pittsburgh\, Pittsburgh\, PA\, 15222\, United States
CATEGORIES:Health and Wellness,Advocacy,Education,Community,Remake Learning
ATTACH;FMTTYPE=image/jpeg:https://www.kidsburgh.org/wp-content/uploads/2022/04/05-19-2022_pa-southwestern_rottmundk.jpg
END:VEVENT
BEGIN:VEVENT
DTSTART;TZID=America/New_York:20220523T150000
DTEND;TZID=America/New_York:20220523T160000
DTSTAMP:20221005T194704
CREATED:20220427T001008Z
LAST-MODIFIED:20220427T001008Z
UID:91220-1653318000-1653321600@www.kidsburgh.org
SUMMARY:Teen Time CLP Sheraden
DESCRIPTION:  \n  \nJoin us for Teen Time where we dive into hands-on projects exploring different art forms\, maker activities\, books and more. \n 
URL:https://www.kidsburgh.org/ec/teen-time-clp-sheraden/
LOCATION:Carnegie Library of Pittsburgh\, Pittsburgh\, PA\, 15222\, United States
CATEGORIES:Arts and Culture,Education,Community,Remake Learning
ATTACH;FMTTYPE=image/jpeg:https://www.kidsburgh.org/wp-content/uploads/2022/04/05-23-2022_pa-southwestern_rottmundk.jpg
END:VEVENT
BEGIN:VEVENT
DTSTART;TZID=America/New_York:20220519T173000
DTEND;TZID=America/New_York:20220519T183000
DTSTAMP:20221005T194704
CREATED:20220426T184542Z
LAST-MODIFIED:20220426T184542Z
UID:91115-1652981400-1652985000@www.kidsburgh.org
SUMMARY:Kid’s Club CLP Hazelwood
DESCRIPTION:The library is the place to be for hands-on learning through art\, maker activities\, games\, books\, technology and more.
URL:https://www.kidsburgh.org/ec/kids-club-clp-hazelwood/
LOCATION:Carnegie Library of Pittsburgh\, Pittsburgh\, PA\, 15222\, United States
CATEGORIES:Education,Community,Remake Learning
ATTACH;FMTTYPE=image/jpeg:https://www.kidsburgh.org/wp-content/uploads/2022/04/05-19-2022_pa-southwestern_rottmundk.jpg
END:VEVENT
BEGIN:VEVENT
DTSTART;TZID=America/New_York:20220519T160000
DTEND;TZID=America/New_York:20220519T170000
DTSTAMP:20221005T194704
CREATED:20220426T172949Z
LAST-MODIFIED:20220426T172949Z
UID:91101-1652976000-1652979600@www.kidsburgh.org
SUMMARY:Teen Time CLP East Liberty
DESCRIPTION:Teen Time CLP East Liberty [Arts|Maker] \nThurs\, May 19\, 4:00-5:00pm \nAges: Grades 6-12 \nHosted by: Carnegie Library of Pittsburgh \nJoin us for Teen Time where we dive into hands-on projects exploring different art forms\, maker activities\, books and more. \nhttps://remakelearningdays.org/event/teen-time-clp-east-liberty/# 
URL:https://www.kidsburgh.org/ec/teen-time-clp-east-liberty/
LOCATION:Carnegie Library of Pittsburgh\, Pittsburgh\, PA\, 15222\, United States
CATEGORIES:Education,Community,Remake Learning
ATTACH;FMTTYPE=image/jpeg:https://www.kidsburgh.org/wp-content/uploads/2022/04/05-19-2022_pa-southwestern_rottmundk.jpg
END:VEVENT
BEGIN:VEVENT
DTSTART;TZID=America/New_York:20220519T160000
DTEND;TZID=America/New_York:20220519T170000
DTSTAMP:20221005T194704
CREATED:20220426T172705Z
LAST-MODIFIED:20220426T172705Z
UID:91098-1652976000-1652979600@www.kidsburgh.org
SUMMARY:Kid’s Club CLP Woods Run
DESCRIPTION:Kid’s Club CLP Woods Run [Arts|Maker|Science] \nThurs\, May 19\, 4:00-5:00pm \nAges: Grades K-5 \nHosted by: Carnegie Library of Pittsburgh \nThe library is the place to be for hands-on learning through art\, maker activities\, games\, books\, technology and more. \nhttps://remakelearningdays.org/event/kids-club-clp-woods-run/# 
URL:https://www.kidsburgh.org/ec/kids-club-clp-woods-run/
LOCATION:Carnegie Library of Pittsburgh\, Pittsburgh\, PA\, 15222\, United States
CATEGORIES:Education,Community,Remake Learning
ATTACH;FMTTYPE=image/jpeg:https://www.kidsburgh.org/wp-content/uploads/2022/04/05-19-2022_pa-southwestern_rottmundk.jpg
END:VEVENT
BEGIN:VEVENT
DTSTART;TZID=America/New_York:20220518T163000
DTEND;TZID=America/New_York:20220518T173000
DTSTAMP:20221005T194704
CREATED:20220426T162651Z
LAST-MODIFIED:20220426T162710Z
UID:91044-1652891400-1652895000@www.kidsburgh.org
SUMMARY:Kid’s Club CLP Squirrel Hill
DESCRIPTION:  \nThe library is the place to be with hands-on learning through art\, maker activities\, games\, books\, technology and more.  \nhttps://remakelearningdays.org/event/kids-club-clp-squirrel-hill/# 
URL:https://www.kidsburgh.org/ec/kids-club-clp-squirrel-hill/
LOCATION:Carnegie Library of Pittsburgh\, Pittsburgh\, PA\, 15222\, United States
CATEGORIES:Education,Community,Remake Learning
ATTACH;FMTTYPE=image/jpeg:https://www.kidsburgh.org/wp-content/uploads/2022/04/03-11-2022_pa-southwestern_rottmundk.jpg
END:VEVENT
BEGIN:VEVENT
DTSTART;TZID=America/New_York:20220518T163000
DTEND;TZID=America/New_York:20220518T173000
DTSTAMP:20221005T194704
CREATED:20220426T162354Z
LAST-MODIFIED:20220426T162354Z
UID:91042-1652891400-1652895000@www.kidsburgh.org
SUMMARY:Kid’s Club CLP Brookline
DESCRIPTION:  \nThe library is the place to be with hands-on learning through art\, maker activities\, games\, books\, technology and more.  \nhttps://remakelearningdays.org/event/kids-club-clp-brookline/# 
URL:https://www.kidsburgh.org/ec/kids-club-clp-brookline/
LOCATION:Carnegie Library of Pittsburgh\, Pittsburgh\, PA\, 15222\, United States
CATEGORIES:Community,Remake Learning
ATTACH;FMTTYPE=image/jpeg:https://www.kidsburgh.org/wp-content/uploads/2022/04/05-11-2022_pa-southwestern_rottmundk-1.jpg
END:VEVENT
BEGIN:VEVENT
DTSTART;TZID=America/New_York:20220518T160000
DTEND;TZID=America/New_York:20220518T170000
DTSTAMP:20221005T194704
CREATED:20220426T160514Z
LAST-MODIFIED:20220426T160514Z
UID:91032-1652889600-1652893200@www.kidsburgh.org
SUMMARY:Kid’s Club CLP West End
DESCRIPTION:Kid’s Club CLP West End [Arts|Maker|Science] \nWed\, May 18\, 4:00-5:00pm \nAges: Grades K-5 \nHosted by: Carnegie Library of Pittsburgh \nThe library is the place to be with hands-on learning through art\, maker activities\, games\, books\, technology and more. \nhttps://remakelearningdays.org/event/kids-club-clp-west-end/# 
URL:https://www.kidsburgh.org/ec/kids-club-clp-west-end/
LOCATION:Carnegie Library of Pittsburgh\, Pittsburgh\, PA\, 15222\, United States
CATEGORIES:Community,Remake Learning
ATTACH;FMTTYPE=image/jpeg:https://www.kidsburgh.org/wp-content/uploads/2022/04/05-11-2022_pa-southwestern_rottmundk-1.jpg
END:VEVENT
BEGIN:VEVENT
DTSTART;TZID=America/New_York:20220518T153000
DTEND;TZID=America/New_York:20220518T163000
DTSTAMP:20221005T194704
CREATED:20220426T155634Z
LAST-MODIFIED:20220426T155634Z
UID:91026-1652887800-1652891400@www.kidsburgh.org
SUMMARY:Teen Time CLP Hill District
DESCRIPTION:Teen Time CLP Hill District [Arts|Maker] \nWed\, May 18\, 3:30-4:30pm \nAges: Grades 6-12 \nHosted by: Carnegie Library of Pittsburgh \nJoin us for Teen Time where we dive into hands-on projects exploring different art forms\, maker activities\, books and more. \nhttps://remakelearningdays.org/event/teen-time-clp-hill-district/# 
URL:https://www.kidsburgh.org/ec/teen-time-clp-hill-district/
LOCATION:Carnegie Library of Pittsburgh\, Pittsburgh\, PA\, 15222\, United States
CATEGORIES:Community,Remake Learning
ATTACH;FMTTYPE=image/jpeg:https://www.kidsburgh.org/wp-content/uploads/2022/04/03-11-2022_pa-southwestern_rottmundk.jpg
END:VEVENT
BEGIN:VEVENT
DTSTART;TZID=America/New_York:20220517T163000
DTEND;TZID=America/New_York:20220517T173000
DTSTAMP:20221005T194704
CREATED:20220426T153445Z
LAST-MODIFIED:20220426T153445Z
UID:91004-1652805000-1652808600@www.kidsburgh.org
SUMMARY:Teen Time CLP Beechview
DESCRIPTION:Teen Time CLP Beechview [Arts|Maker] \nTues\, May 17\, 4:30-5:30pm \nAges: Grades 6-12 \nHosted by: Carnegie Library of Pittsburgh \nJoin us for Teen Time where we dive into hands-on projects exploring different art forms\, maker activities\, books and more. \nhttps://remakelearningdays.org/event/teen-time-clp-beechview/# 
URL:https://www.kidsburgh.org/ec/teen-time-clp-beechview/
LOCATION:Carnegie Library of Pittsburgh\, Pittsburgh\, PA\, 15222\, United States
CATEGORIES:Community,Remake Learning
ATTACH;FMTTYPE=image/jpeg:https://www.kidsburgh.org/wp-content/uploads/2022/04/03-11-2022_pa-southwestern_rottmundk.jpg
END:VEVENT
BEGIN:VEVENT
DTSTART;TZID=America/New_York:20220517T160000
DTEND;TZID=America/New_York:20220517T170000
DTSTAMP:20221005T194704
CREATED:20220426T152949Z
LAST-MODIFIED:20220426T152949Z
UID:90998-1652803200-1652806800@www.kidsburgh.org
SUMMARY:Kid’s Club CLP Allegheny
DESCRIPTION:Kid’s Club CLP Allegheny [Arts|Maker|Science] \nTues\, May 17\, 4:00-5:00pm \nAges: Grades K-5 \nHosted by: Carnegie Library of Pittsburgh \nThe library is the place to be with hands-on learning through art\, maker activities\, games\, books\, technology and more.  \nhttps://remakelearningdays.org/event/kids-club-clp-allegheny/# 
URL:https://www.kidsburgh.org/ec/kids-club-clp-allegheny/
LOCATION:Carnegie Library of Pittsburgh\, Pittsburgh\, PA\, 15222\, United States
CATEGORIES:Education,Community,Remake Learning
ATTACH;FMTTYPE=image/jpeg:https://www.kidsburgh.org/wp-content/uploads/2022/04/03-11-2022_pa-southwestern_rottmundk.jpg
END:VEVENT
BEGIN:VEVENT
DTSTART;TZID=America/New_York:20220426T153000
DTEND;TZID=America/New_York:20220426T163000
DTSTAMP:20221005T194704
CREATED:20220427T020258Z
LAST-MODIFIED:20220427T020258Z
UID:91232-1650987000-1650990600@www.kidsburgh.org
SUMMARY:Teen Time CLP Allegheny
DESCRIPTION:  \nDive into hands-on projects exploring different art forms\, maker activities\, books and more. \n 
URL:https://www.kidsburgh.org/ec/teen-time-clp-allegheny/
LOCATION:Carnegie Library of Pittsburgh\, Pittsburgh\, PA\, 15222\, United States
CATEGORIES:Education,Community,Remake Learning
ATTACH;FMTTYPE=image/jpeg:https://www.kidsburgh.org/wp-content/uploads/2022/04/05-18-2022_pa-southwestern_rottmundk.jpg
END:VEVENT
BEGIN:VEVENT
DTSTART;TZID=America/New_York:20220426T080000
DTEND;TZID=America/New_York:20220426T170000
DTSTAMP:20221005T194704
CREATED:20220427T021042Z
LAST-MODIFIED:20220427T021042Z
UID:91237-1650960000-1650992400@www.kidsburgh.org
SUMMARY:Kid’s Club CLP Main
DESCRIPTION:  \nThe library is the place to be for hands-on learning through art\, maker activities\, games\, books\, technology and more. \n 
URL:https://www.kidsburgh.org/ec/kids-club-clp-main/
LOCATION:Carnegie Library of Pittsburgh\, Pittsburgh\, PA\, 15222\, United States
CATEGORIES:Education,Community,Remake Learning
ATTACH;FMTTYPE=image/jpeg:https://www.kidsburgh.org/wp-content/uploads/2022/04/05-28-2022_pa-southwestern_rottmundk.jpg
END:VEVENT
END:VCALENDAR