BEGIN:VCALENDAR
VERSION:2.0
PRODID:-//Kidsburgh - ECPv6.0.1.1//NONSGML v1.0//EN
CALSCALE:GREGORIAN
METHOD:PUBLISH
X-WR-CALNAME:Kidsburgh
X-ORIGINAL-URL:https://www.kidsburgh.org
X-WR-CALDESC:Events for Kidsburgh
REFRESH-INTERVAL;VALUE=DURATION:PT1H
X-Robots-Tag:noindex
X-PUBLISHED-TTL:PT1H
BEGIN:VTIMEZONE
TZID:America/New_York
BEGIN:DAYLIGHT
TZOFFSETFROM:-0500
TZOFFSETTO:-0400
TZNAME:EDT
DTSTART:20190310T070000
END:DAYLIGHT
BEGIN:STANDARD
TZOFFSETFROM:-0400
TZOFFSETTO:-0500
TZNAME:EST
DTSTART:20191103T060000
END:STANDARD
END:VTIMEZONE
BEGIN:VEVENT
DTSTART;TZID=America/New_York:20191026T183000
DTEND;TZID=America/New_York:20191026T200000
DTSTAMP:20221005T194907
CREATED:20190919T155246Z
LAST-MODIFIED:20190919T155246Z
UID:54692-1572114600-1572120000@www.kidsburgh.org
SUMMARY:Creatures of the Night
DESCRIPTION:Creatures of the Night Family-Friendly Halloween at Audubon \nThree start times at 6:30\, 7 or 7:30 p.m. \nDelight in our annual autumn experience! Fireflies guide you on our trails to encounter larger-than-life costumed nocturnal creatures. Hear stories from a Great Horned Owl\, observe the acrobatics of the Flying Squirrel\, go batty with Little Brown Bat\, and more. Crafts and refreshments provided. Come in costume for twice the fun. This event takes place even if it’s raining. Registration required. $6 member; $10 nonmember; under 2 is free.
URL:https://www.kidsburgh.org/ec/creatures-of-the-night-3/
LOCATION:Buffalo Creek Nature Center\, 154 Monroe Road\, Sarver\, 16055\, United States
CATEGORIES:Community
ATTACH;FMTTYPE=image/jpeg:https://www.kidsburgh.org/wp-content/uploads/2019/09/Audubon-Creatures-Flyer-2019-2-e1571765696177.jpg
ORGANIZER;CN="Audubon%20Society%20of%20Western%20Pennsylvania":MAILTO:info@aswp.org
GEO:40.707349;-79.7128172
X-APPLE-STRUCTURED-LOCATION;VALUE=URI;X-ADDRESS=Buffalo Creek Nature Center 154 Monroe Road Sarver 16055 United States;X-APPLE-RADIUS=500;X-TITLE=154 Monroe Road:geo:-79.7128172,40.707349
END:VEVENT
END:VCALENDAR