BEGIN:VCALENDAR
VERSION:2.0
PRODID:-//Kidsburgh - ECPv6.0.1.1//NONSGML v1.0//EN
CALSCALE:GREGORIAN
METHOD:PUBLISH
X-ORIGINAL-URL:https://www.kidsburgh.org
X-WR-CALDESC:Events for Kidsburgh
REFRESH-INTERVAL;VALUE=DURATION:PT1H
X-Robots-Tag:noindex
X-PUBLISHED-TTL:PT1H
BEGIN:VTIMEZONE
TZID:America/New_York
BEGIN:DAYLIGHT
TZOFFSETFROM:-0500
TZOFFSETTO:-0400
TZNAME:EDT
DTSTART:20220313T070000
END:DAYLIGHT
BEGIN:STANDARD
TZOFFSETFROM:-0400
TZOFFSETTO:-0500
TZNAME:EST
DTSTART:20221106T060000
END:STANDARD
END:VTIMEZONE
BEGIN:VEVENT
DTSTART;TZID=America/New_York:20220518T153000
DTEND;TZID=America/New_York:20220518T173000
DTSTAMP:20221005T201818
CREATED:20220426T160207Z
LAST-MODIFIED:20220426T160207Z
UID:91028-1652887800-1652895000@www.kidsburgh.org
SUMMARY:Broad Street Community Garden
DESCRIPTION:Broad Street Community Garden [Arts|Maker|Outdoor Learning|Science|Tech|Youth Voice] \nWed\, May 18\, 3:30-5:30pm \nAges: Grades K-4 \nHosted by: Broad Street Elementary School \nK-4 grade learners\, their parents and community partner will create a community garden with all of the sensory items that would stimulate all and become a common space for learners\, staff\, parents and community. \nhttps://remakelearningdays.org/event/broad-street-community-garden/
URL:https://www.kidsburgh.org/ec/broad-street-community-garden/
LOCATION:Broad Street Elemenary School\, 200 Broad Street\, Pittsburgh\, PA\, 15222\, United States
CATEGORIES:Education,Community,Remake Learning
ATTACH;FMTTYPE=image/jpeg:https://www.kidsburgh.org/wp-content/uploads/2022/04/05-18-2022_pa-southeastern_vanessa-boyd___48619-scaled.jpg
END:VEVENT
END:VCALENDAR